Workbook

Sheet Cover
B2: Tai Hing Holdings
G5: Company Description
G6: Tai Hing Group Holdings Ltd is a multi-brand casual dining restaurant group originated in Hong Kong. It offers a wide range of cuisines in Hong Kong, Mainland China, Macau and Taiwan.
G13: Sheet Navigator
B14: General Information | G14: 1. Income Statement | H14: Consolidated annual income statement
B15: Company Name: | C15: Tai Hing Group Holdings | G15: 2. Balance Sheet | H15: Consolidated annual balance sheet
B16: Ticker: | C16: HK:6811 | G16: 3. Cash Flow Statement | H16: Consolidated statement of cash flows
B17: Last Historical Year: | C17: 43465 | E17: Colour Convention | G17: 4. Financial Metrics | H17: Important Ratios
B18: Indsutry | C18: Restaurants | E18: Blue: Hard-coded numbers | G18: 5. Depreciation | H18: Projeciton of PPE and Depreciation
B19: Valuation Date: | C19: 8th of July 2019 | E19: Blue with highlight: Assumptions | G19: 6. Operating Working Capital | H19: Projection of Working Capital Accounts
B20: Current Price (US$): | C20: 2.59 | E20: Black: Excel formula | G20: 7. Debt Schedule | H20: Projection of Issuances and Retirements of Debt
B21: Target Price (US$): | C21: ='DCF Analysis'!E39 -> 2.2891077 | E21: Green: Linked items from other worksheets | G21: 8. DCF Analysis | H21: Unlevered Cash Flows and WACC calculations
A29: Bear
A30: Base
A31: Bull

Sheet Income Statement
D2: Historical | G2: Projection Period
B3: Year ended 31st December | D3: 2016A | E3: 2017A | F3: 2018A | G3: 2019F | H3: 2020F | I3: 2021F | J3: 2022F | L3: Comments
C4: HK$’000
B5: Revenue | D5: 2512970 | E5: 2771277 | F5: 3126053 | G5: =F5*(1+G48) -> 3344876.7 | H5: =G5*(1+H48) -> 3579018.1 | I5: =H5*(1+I48) -> 3829549.3 | J5: =I5*(1+J48) -> 4097617.8
B6: COGS | D6: -735162 | E6: -787030 | F6: -887062 | G6: =-G5*G49 -> -953289.86 | H6: =-H5*H49 -> -1020020.2 | I6: =-I5*I49 -> -1091421.6 | J6: =-J5*J49 -> -1167821.1
B7: Gross profit | D7: =SUM(D5:D6) -> 1777808 | E7: =SUM(E5:E6) -> 1984247 | F7: =SUM(F5:F6) -> 2238991 | G7: =SUM(G5:G6) -> 2391586.8 | H7: =SUM(H5:H6) -> 2558997.9 | I7: =SUM(I5:I6) -> 2738127.8 | J7: =SUM(J5:J6) -> 2929796.7
B9: Other income and gains, net | D9: 32939 | E9: 45696 | F9: 20286 | G9: =G50*G5 -> 33448.767 | H9: =H50*H5 -> 35790.181 | I9: =I50*I5 -> 38295.493 | J9: =J50*J5 -> 40976.178
B10: Gain on disposal of non-current assets classified as held for sale | D10: 0 | E10: 0 | F10: 162614 | G10: 0 | H10: 0 | I10: 0 | J10: 0 | L10: Non-recurring. Note, higher income 2018 for gain on disposal
B11: Staff costs | D11: -743853 | E11: -858909 | F11: -1033250 | G11: =-G51*G5 -> -1170706.8 | H11: =-H51*H5 -> -1252656.3 | I11: =-I51*I5 -> -1340342.3 | J11: =-J51*J5 -> -1434166.2
B12: Depreciation and amortisation | D12: -128995 | E12: -133396 | F12: -147813 | G12: =Depreciation!G8 -> -152531.81 | H12: =Depreciation!H8 -> -153760.77 | I12: =Depreciation!I8 -> -165111.22 | J12: =Depreciation!J8 -> -328490.09 | L12: Depreciation Schedule
B13: Rental and related expenses | D13: -345018 | E13: -399729 | F13: -453606 | G13: =-G52*G5 -> -485007.12 | H13: =-H52*H5 -> -518957.62 | I13: =-I52*I5 -> -555284.66 | J13: =-J52*J5 -> -594154.58
B14: Other operating expenses, net | D14: -328562 | E14: -347757 | F14: -397370 | G14: =-G53*G5 -> -426471.78 | H14: =-H53*H5 -> -456324.81 | I14: =-I53*I5 -> -488267.54 | J14: =-J53*J5 -> -522446.27
B15: Finance costs | D15: -16587 | E15: -19611 | F15: -21203 | G15: =-'Debt Schedule'!H29 -> -20650.609 | H15: =-'Debt Schedule'!I29 -> -26500.609 | I15: =-'Debt Schedule'!J29 -> -32350.609 | J15: =-'Debt Schedule'!K29 -> -32350.609 | L15: Debt Schedule
B16: Listing expenses | D16: 0 | E16: 0 | F16: -10973 | G16: 0 | H16: 0 | I16: 0 | J16: 0 | L16: Non-recurring
B17: PROFIT BEFORE TAX | D17: =D7+SUM(D9:D16) -> 247732 | E17: =E7+SUM(E9:E16) -> 270541 | F17: =F7+SUM(F9:F16) -> 357676 | G17: =G7+SUM(G9:G16) -> 169667.44 | H17: =H7+SUM(H9:H16) -> 186587.98 | I17: =I7+SUM(I9:I16) -> 195066.98 | J17: =J7+SUM(J9:J16) -> 59165.127
B19: SG&A | D19: =D11+D13+D14 -> -1417433 | E19: =E11+E13+E14 -> -1606395 | F19: =F11+F13+F14 -> -1884226 | G19: =G11+G13+G14 -> -2082185.8 | H19: =H11+H13+H14 -> -2227938.8 | I19: =I11+I13+I14 -> -2383894.5 | J19: =J11+J13+J14 -> -2550767.1
B21: Income tax expense | D21: -50853 | E21: -60908 | F21: -52742 | G21: =-G54*G17 -> -33933.489 | H21: =-H54*H17 -> -37317.596 | I21: =-I54*I17 -> -39013.396 | J21: =-J54*J17 -> -11833.025 | L21: Need to check Annual Report
B22: PROFIT FOR THE YEAR | D22: =D17+D21 -> 196879 | E22: =E17+E21 -> 209633 | F22: =F17+F21 -> 304934 | G22: =G17+G21 -> 135733.96 | H22: =H17+H21 -> 149270.38 | I22: =I17+I21 -> 156053.58 | J22: =J17+J21 -> 47332.101
B24: EBITDA | D24: =D17-D12-D15 -> 393314 | E24: =E17-E12-E15 -> 423548 | F24: =F17-F12-F15 -> 526692 | G24: =G17-G12-G15 -> 342849.86 | H24: =H17-H12-H15 -> 366849.35 | I24: =I17-I12-I15 -> 392528.81 | J24: =J17-J12-J15 -> 420005.82
B25: EBIT | D25: =D17-D12 -> 376727 | E25: =E17-E12 -> 403937 | F25: =F17-F12 -> 505489 | G25: =G17-G12 -> 322199.25 | H25: =H17-H12 -> 340348.74 | I25: =I17-I12 -> 360178.2 | J25: =J17-J12 -> 387655.22
B26: EBT (similar to above, profit before tax) | D26: =D17 -> 247732 | E26: =E17 -> 270541 | F26: =F17 -> 357676 | G26: =G17 -> 169667.44 | H26: =H17 -> 186587.98 | I26: =I17 -> 195066.98 | J26: =J17 -> 59165.127
B28: Other comprehensive income/(loss):
B29: Exchange differences on translation of foreign operations | D29: -9061 | E29: 12332 | F29: -13655 | G29: =G55*G5 -> 14717.458 | H29: =H55*H5 -> -15747.68 | I29: =I55*I5 -> 16850.017 | J29: =J55*J5 -> -18029.518
B30: Reclassification adjustment for foreign operations deregistered | D30: -1605 | E30: 0 | F30: -1270 | G30: 0 | H30: 0 | I30: 0 | J30: 0 | L30: Non-recurring
B31: Release of exchange reserve upon disposal of subsidiaries | D31: 0 | E31: 0 | F31: 976 | G31: 0 | H31: 0 | I31: 0 | J31: 0 | L31: Non-recurring
B33: Other comprehensive income not to be reclassified:
B34: Gain on asset revaluation | D34: 35576 | E34: 1044 | F34: 0 | G34: 0 | H34: 0 | I34: 0 | J34: 0 | L34: Non-recurring
B36: Total Other comprehensive income | D36: =SUM(D29:D31)+D34 -> 24910 | E36: =SUM(E29:E31)+E34 -> 13376 | F36: =SUM(F29:F31)+F34 -> -13949 | G36: =SUM(G29:G31)+G34 -> 14717.458 | H36: =SUM(H29:H31)+H34 -> -15747.68 | I36: =SUM(I29:I31)+I34 -> 16850.017 | J36: =SUM(J29:J31)+J34 -> -18029.518 | L36: Set as non-recurring for now
B37: TOTAL COMPREHENSIVE INCOME FOR THE YEAR | D37: =D22+D36 -> 221789 | E37: =E22+E36 -> 223009 | F37: =F22+F36 -> 290985 | G37: =G22+G36 -> 150451.41 | H37: =H22+H36 -> 133522.7 | I37: =I22+I36 -> 172903.6 | J37: =J22+J36 -> 29302.583
B39: Attributable to:
B40: Owners of the Company | D40: 122390 | E40: 123063 | F40: 290985 | L40: Honestly not sure how this breaks down
B41: Non-controlling interests | D41: 99399 | E41: 99946 | F41: 0
B43: Average common shares outstanding
B44: Basic | F44: =512392500*100/51.2 -> 1.0007666e+09 | G44: =F44 -> 1.0007666e+09 | H44: =G44 -> 1.0007666e+09 | I44: =H44 -> 1.0007666e+09 | J44: =I44 -> 1.0007666e+09
B45: Diluted | F45: =6375000/0.6335% -> 1.0063141e+09 | G45: =F45 -> 1.0063141e+09 | H45: =G45 -> 1.0063141e+09 | I45: =H45 -> 1.0063141e+09 | J45: =I45 -> 1.0063141e+09 | L45: Outstanding Options page 506
B47: Year ended 31st December | D47: 2016A | E47: 2017A | F47: 2018A | G47: 2019F | H47: 2020F | I47: 2021F | J47: 2022F
B48: Revenue growth (%) | E48: =(E5-D5)/D5 -> 0.10278953 | F48: =(F5-E5)/E5 -> 0.12801896 | G48: 0.07 | H48: 0.07 | I48: 0.07 | J48: 0.07
B49: COGS asa % of Revenue | D49: =-D6/D5 -> 0.29254707 | E49: =-E6/E5 -> 0.28399543 | F49: =-F6/F5 -> 0.28376422 | G49: 0.285 | H49: 0.285 | I49: 0.285 | J49: 0.285
B50: Other income and gains, net as a % of Revenue | D50: =D9/D5 -> 0.013107598 | E50: =E9/E5 -> 0.016489149 | F50: =F9/F5 -> 0.0064893334 | G50: 0.01 | H50: 0.01 | I50: 0.01 | J50: 0.01
B51: Staff costs as a % of Revenue | D51: =-D11/D5 -> 0.29600552 | E51: =-E11/E5 -> 0.30993257 | F51: =-F11/F5 -> 0.33052863 | G51: 0.35 | H51: 0.35 | I51: 0.35 | J51: 0.35 | L51: Growing YoY. Higher costs assumed
...

Sheet Balance Sheet
D2: Historical | G2: Projection Period
B3: Year ended 31st December | D3: 2016A | E3: 2017A | F3: 2018A | G3: 2019F | H3: 2020F | I3: 2021F | J3: 2022F | L3: Comments
C4: HK$’000
B5: NON-CURRENT ASSETS
B6: Property, plant and equipment | D6: 721674 | E6: 743305 | F6: 802799 | G6: =F6-'Cash Flow Statement'!G36+'Cash Flow Statement'!G38-'Cash Flow Statement'!G14-'Cash Flow Statement'!G15 -> 809267.19 | H6: =G6-'Cash Flow Statement'!H36+'Cash Flow Statement'!H38-'Cash Flow Statement'!H14-'Cash Flow Statement'!H15 -> 869006.42 | I6: =H6-'Cash Flow Statement'!I36+'Cash Flow Statement'!I38-'Cash Flow Statement'!I14-'Cash Flow Statement'!I15 -> 1728895.2 | J6: =I6-'Cash Flow Statement'!J36+'Cash Flow Statement'!J38-'Cash Flow Statement'!J14-'Cash Flow Statement'!J15 -> 1646262.2
B7: Prepaid land lease payments | D7: 13426 | E7: 13608 | F7: 12655 | G7: =F7+'Cash Flow Statement'!G53 -> 12655 | H7: =G7+'Cash Flow Statement'!H53 -> 12655 | I7: =H7+'Cash Flow Statement'!I53 -> 12655 | J7: =I7+'Cash Flow Statement'!J53 -> 12655 | L7: Might be wrong driver
B8: Investment properties | D8: 290626 | E8: 18027 | F8: 10655 | G8: =F8+'Cash Flow Statement'!G39+'Cash Flow Statement'!G44 -> 10655 | H8: =G8+'Cash Flow Statement'!H39+'Cash Flow Statement'!H44 -> 10655 | I8: =H8+'Cash Flow Statement'!I39+'Cash Flow Statement'!I44 -> 10655 | J8: =I8+'Cash Flow Statement'!J39+'Cash Flow Statement'!J44 -> 10655
B9: Intangible asset | D9: 712 | E9: 557 | F9: 400 | G9: =F9+'Cash Flow Statement'!G37 -> 400 | H9: =G9+'Cash Flow Statement'!H37 -> 400 | I9: =H9+'Cash Flow Statement'!I37 -> 400 | J9: =I9+'Cash Flow Statement'!J37 -> 400
B10: Prepayments, deposits and other receivables | D10: 99690 | E10: 140951 | F10: 136249 | G10: =F10-'Cash Flow Statement'!G23/2 -> 133397.33 | H10: =G10-'Cash Flow Statement'!H23/2 -> 136535.07 | I10: =H10-'Cash Flow Statement'!I23/2 -> 139892.45 | J10: =I10-'Cash Flow Statement'!J23/2 -> 143484.85
B11: Deferred tax assets | D11: 14700 | E11: 16289 | F11: 19741 | G11: =F11 -> 19741 | H11: =G11 -> 19741 | I11: =H11 -> 19741 | J11: =I11 -> 19741 | L11: No Driver as no change is assumed
B12: Total non-current assets | D12: =SUM(D6:D11) -> 1140828 | E12: =SUM(E6:E11) -> 932737 | F12: =SUM(F6:F11) -> 982499 | G12: =SUM(G6:G11) -> 986115.52 | H12: =SUM(H6:H11) -> 1048992.5 | I12: =SUM(I6:I11) -> 1912238.7 | J12: =SUM(J6:J11) -> 1833198
B14: CURRENT ASSETS
B15: Inventories | D15: 39709 | E15: 39157 | F15: 56555 | G15: =F15-'Cash Flow Statement'!G21 -> 50312.521 | H15: =G15-'Cash Flow Statement'!H21 -> 53834.397 | I15: =H15-'Cash Flow Statement'!I21 -> 57602.805 | J15: =I15-'Cash Flow Statement'!J21 -> 61635.001
B16: Trade receivables | D16: 8127 | E16: 19327 | F16: 18700 | G16: =F16-'Cash Flow Statement'!G22 -> 18582.648 | H16: =G16-'Cash Flow Statement'!H22 -> 19883.434 | I16: =H16-'Cash Flow Statement'!I22 -> 21275.274 | J16: =I16-'Cash Flow Statement'!J22 -> 22764.543
B17: Prepayments, deposits and other receivables | D17: 71291 | E17: 80267 | F17: 95353 | G17: =F17-'Cash Flow Statement'!G23/2 -> 92501.332 | H17: =G17-'Cash Flow Statement'!H23/2 -> 95639.07 | I17: =H17-'Cash Flow Statement'!I23/2 -> 98996.45 | J17: =I17-'Cash Flow Statement'!J23/2 -> 102588.85
B18: Loans to related companies | D18: 57900 | E18: 0 | F18: 0 | G18: =F18 -> 0 | H18: =G18 -> 0 | I18: =H18 -> 0 | J18: =I18 -> 0 | L18: Closed
B19: Due from related companies | D19: 744804 | E19: 65590 | F19: 302 | G19: =F19-'Cash Flow Statement'!G25 -> 302 | H19: =G19-'Cash Flow Statement'!H25 -> 302 | I19: =H19-'Cash Flow Statement'!I25 -> 302 | J19: =I19-'Cash Flow Statement'!J25 -> 302
B20: Due from related parties | D20: 675 | E20: 1494 | F20: 0 | G20: =F20-'Cash Flow Statement'!G24 -> 0 | H20: =G20-'Cash Flow Statement'!H24 -> 0 | I20: =H20-'Cash Flow Statement'!I24 -> 0 | J20: =I20-'Cash Flow Statement'!J24 -> 0
B21: Due from a director | D21: 22880 | E21: 11158 | F21: 0 | G21: =F21+'Cash Flow Statement'!G26 -> 0 | H21: =G21+'Cash Flow Statement'!H26 -> 0 | I21: =H21+'Cash Flow Statement'!I26 -> 0 | J21: =I21+'Cash Flow Statement'!J26 -> 0
B22: Financial assets at fair value through profit or loss | D22: 4120 | E22: 983 | F22: 851 | G22: =F22+'Cash Flow Statement'!G16+'Cash Flow Statement'!G40+'Cash Flow Statement'!G45 -> 851 | H22: =G22+'Cash Flow Statement'!H16+'Cash Flow Statement'!H40+'Cash Flow Statement'!H45 -> 851 | I22: =H22+'Cash Flow Statement'!I16+'Cash Flow Statement'!I40+'Cash Flow Statement'!I45 -> 851 | J22: =I22+'Cash Flow Statement'!J16+'Cash Flow Statement'!J40+'Cash Flow Statement'!J45 -> 851
B23: Debt investments at amortised cost | D23: 0 | E23: 56707 | F23: 0 | G23: =F23+'Cash Flow Statement'!F46 -> 0 | H23: =G23+'Cash Flow Statement'!G46 -> 0 | I23: =H23+'Cash Flow Statement'!H46 -> 0 | J23: =I23+'Cash Flow Statement'!I46 -> 0
B24: Tax recoverable | D24: 3975 | E24: 1140 | F24: 2785 | G24: =F24 -> 2785 | H24: =G24 -> 2785 | I24: =H24 -> 2785 | J24: =I24 -> 2785 | L24: No Driver
B25: Cash and cash equivalents | D25: 152491 | E25: 164682 | F25: 242162 | G25: =F25+'Cash Flow Statement'!G59+'Cash Flow Statement'!G61 -> 366143.83 | H25: =G25+'Cash Flow Statement'!H59+'Cash Flow Statement'!H61 -> 846452.84 | I25: =H25+'Cash Flow Statement'!I59+'Cash Flow Statement'!I61 -> 118170.63 | J25: =I25+'Cash Flow Statement'!J59+'Cash Flow Statement'!J61 -> 232477.08
B26: Non-current assets classified as held for sale | D26: 0 | E26: 361145 | F26: 0 | G26: =F26 -> 0 | H26: =G26 -> 0 | I26: =H26 -> 0 | J26: =I26 -> 0 | L26: No Driver
B27: Total current assets | D27: =SUM(D15:D26) -> 1105972 | E27: =SUM(E15:E26) -> 801650 | F27: =SUM(F15:F26) -> 416708 | G27: =SUM(G15:G26) -> 531478.34 | H27: =SUM(H15:H26) -> 1019747.7 | I27: =SUM(I15:I26) -> 299983.16 | J27: =SUM(J15:J26) -> 423403.48
B29: CURRENT LIABILITIES
B30: Trade payables | D30: 97210 | E30: 113286 | F30: 110468 | G30: =F30+'Cash Flow Statement'!G27 -> 124457.29 | H30: =G30+'Cash Flow Statement'!H27 -> 133169.3 | I30: =H30+'Cash Flow Statement'!I27 -> 142491.15 | J30: =I30+'Cash Flow Statement'!J27 -> 152465.53
B31: Other payables and accruals | D31: 198033 | E31: 191928 | F31: 216870 | G31: =F31+'Cash Flow Statement'!G28/2 -> 218328.14 | H31: =G31+'Cash Flow Statement'!H28/2 -> 226020.66 | I31: =H31+'Cash Flow Statement'!I28/2 -> 234251.65 | J31: =I31+'Cash Flow Statement'!J28/2 -> 243058.82
B32: Contract liabilities | D32: 52546 | E32: 62733 | F32: 75062 | G32: =F32+'Cash Flow Statement'!G29 -> 72007.763 | H32: =G32+'Cash Flow Statement'!H29 -> 77048.306 | I32: =H32+'Cash Flow Statement'!I29 -> 82441.687 | J32: =I32+'Cash Flow Statement'!J29 -> 88212.605
B33: Due to related companies | D33: 64337 | E33: 42735 | F33: 0 | G33: =F33 -> 0 | H33: =G33 -> 0 | I33: =H33 -> 0 | J33: =I33 -> 0 | L33: No Driver, conflicitng CA above
B34: Interest-bearing bank borrowings | D34: 889638 | E34: 1019178 | F34: 112357 | G34: =F34+'Cash Flow Statement'!G52/2 -> 112357 | H34: =G34+'Cash Flow Statement'!H52/2 -> 312357 | I34: =H34+'Cash Flow Statement'!I52/2 -> 312357 | J34: =I34+'Cash Flow Statement'!J52/2 -> 312357
B35: Tax payable | D35: 18317 | E35: 30246 | F35: 17838 | G35: =F35 -> 17838 | H35: =G35 -> 17838 | I35: =H35 -> 17838 | J35: =I35 -> 17838 | L35: No Driver
B36: Total current liabilities | D36: =SUM(D30:D35) -> 1320081 | E36: =SUM(E30:E35) -> 1460106 | F36: =SUM(F30:F35) -> 532595 | G36: =SUM(G30:G35) -> 544988.19 | H36: =SUM(H30:H35) -> 766433.26 | I36: =SUM(I30:I35) -> 789379.49 | J36: =SUM(J30:J35) -> 813931.95
B38: NON-CURRENT LIABILITIES
B39: Other payables and accruals | D39: 50413 | E39: 66118 | F39: 68236 | G39: =F39+'Cash Flow Statement'!G28/2 -> 69694.137 | H39: =G39+'Cash Flow Statement'!H28/2 -> 77386.656 | I39: =H39+'Cash Flow Statement'!I28/2 -> 85617.652 | J39: =I39+'Cash Flow Statement'!J28/2 -> 94424.818
B40: Interest-bearing bank borrowings | D40: 0 | E40: 0 | F40: 424802 | G40: =F40+'Cash Flow Statement'!G52/2 -> 424802 | H40: =G40+'Cash Flow Statement'!H52/2 -> 624802 | I40: =H40+'Cash Flow Statement'!I52/2 -> 624802 | J40: =I40+'Cash Flow Statement'!J52/2 -> 624802
B41: Deferred tax liabilities | D41: 10256 | E41: 10256 | F41: 7529 | G41: =F41 -> 7529 | H41: =G41 -> 7529 | I41: =H41 -> 7529 | J41: =I41 -> 7529 | L41: No Driver as no change is assumed
B42: Total non-current liabilities | D42: =SUM(D39:D41) -> 60669 | E42: =SUM(E39:E41) -> 76374 | F42: =SUM(F39:F41) -> 500567 | G42: =SUM(G39:G41) -> 502025.14 | H42: =SUM(H39:H41) -> 709717.66 | I42: =SUM(I39:I41) -> 717948.65 | J42: =SUM(J39:J41) -> 726755.82
B44: EQUITY
B45: Issued capital | D45: 0 | E45: 1 | F45: 1 | G45: =F45+'Cash Flow Statement'!G51 -> 1 | H45: =G45+'Cash Flow Statement'!H51 -> 1 | I45: =H45+'Cash Flow Statement'!I51 -> 1 | J45: =I45+'Cash Flow Statement'!J51 -> 1
...

Sheet Cash Flow Statement
D2: Historical | G2: Projection Period
B3: Year ended 31st December | D3: 2016A | E3: 2017A | F3: 2018A | G3: 2019F | H3: 2020F | I3: 2021F | J3: 2022F | L3: Comments
C4: HK$’000
B5: CASH FLOWS FROM OPERATING ACTIVITIES
B6: Profit before tax | D6: ='Income Statement'!D17 -> 247732 | E6: ='Income Statement'!E17 -> 270541 | F6: ='Income Statement'!F17 -> 357676 | G6: ='Income Statement'!G17 -> 169667.44 | H6: ='Income Statement'!H17 -> 186587.98 | I6: ='Income Statement'!I17 -> 195066.98 | J6: ='Income Statement'!J17 -> 59165.127
B7: Finance costs | D7: =-'Income Statement'!D15 -> 16587 | E7: =-'Income Statement'!E15 -> 19611 | F7: =-'Income Statement'!F15 -> 21203 | G7: 0 | H7: 0 | I7: 0 | J7: 0 | L7: Debt schedule // pushed to the bottom
B8: Bank interest income | D8: -238 | E8: -1035 | F8: -1750 | G8: 0 | H8: 0 | I8: 0 | J8: 0 | L8: Debt schedule // pushed to the bottom
B9: Interest income from related companies | D9: -10240 | E9: -12456 | F9: -1181 | G9: 0 | H9: 0 | I9: 0 | J9: 0 | L9: Unable to forecast
B10: Loss on disposal of items of property, plant, and equipment | D10: 1415 | E10: 3017 | F10: 6612 | G10: 0 | H10: 0 | I10: 0 | J10: 0 | L10: Unable to forecast
B11: Loss on disposal of an investment property | D11: 0 | E11: 2275 | F11: 0 | G11: 0 | H11: 0 | I11: 0 | J11: 0 | L11: Non-recurring
B12: Gain on disposal of subsidiaries | D12: 0 | E12: 0 | F12: -472 | G12: 0 | H12: 0 | I12: 0 | J12: 0 | L12: Non-recurring
B13: Gain on disposal of non-current assets classified as held for sale | D13: =-'Income Statement'!D10 -> 0 | E13: =-'Income Statement'!E10 -> 0 | F13: =-'Income Statement'!F10 -> -162614 | G13: 0 | H13: 0 | I13: 0 | J13: 0 | L13: Non-recurring
B14: Total D&A | D14: =-'Income Statement'!D12 -> 128995 | E14: =-'Income Statement'!E12 -> 133396 | F14: =-'Income Statement'!F12 -> 147813 | G14: =-Depreciation!G8 -> 152531.81 | H14: =-Depreciation!H8 -> 153760.77 | I14: =-Depreciation!I8 -> 165111.22 | J14: =-Depreciation!J8 -> 328490.09
B15: Impairment of items of property, plant and equipment | D15: 11713 | E15: 2646 | F15: 2070 | G15: 0 | H15: 0 | I15: 0 | J15: 0
B16: Fair value loss/(gain) on financial assets at fair value through profit or loss | D16: -239 | E16: -433 | F16: 132 | G16: 0 | H16: 0 | I16: 0 | J16: 0 | L16: Unable to forecast
B17: Fair value gain on investment properties | D17: -981 | E17: -2220 | F17: -24 | G17: 0 | H17: 0 | I17: 0 | J17: 0 | L17: Unable to forecast
B18: Gain on deregistration of subsidiaries | D18: -1605 | E18: 0 | F18: -1270 | G18: 0 | H18: 0 | I18: 0 | J18: 0 | L18: Unable to forecast
B19: Cash coupon forfeited | D19: -1883 | E19: -1954 | F19: -1106 | G19: 0 | H19: 0 | I19: 0 | J19: 0 | L19: Unable to forecast
B20: Bad debt written off | D20: 634 | E20: 0 | F20: 0 | G20: 0 | H20: 0 | I20: 0 | J20: 0 | L20: Non-recurring
B21: Decrease/(increase) in inventories | D21: -520 | E21: 872 | F21: -18072 | G21: ='Operating Working Capital'!G6-'Operating Working Capital'!H6 -> 6242.4795 | H21: ='Operating Working Capital'!H6-'Operating Working Capital'!I6 -> -3521.8764 | I21: ='Operating Working Capital'!I6-'Operating Working Capital'!J6 -> -3768.4078 | J21: ='Operating Working Capital'!J6-'Operating Working Capital'!K6 -> -4032.1963
B22: Decrease/(increase) in trade receivables | D22: -1260 | E22: -10898 | F22: 392 | G22: ='Operating Working Capital'!G8-'Operating Working Capital'!H8 -> 117.35161 | H22: ='Operating Working Capital'!H8-'Operating Working Capital'!I8 -> -1300.7854 | I22: ='Operating Working Capital'!I8-'Operating Working Capital'!J8 -> -1391.8404 | J22: ='Operating Working Capital'!J8-'Operating Working Capital'!K8 -> -1489.2692
B23: Decrease/(increase) in prepayments, deposits and other receivables | D23: 806 | E23: -47118 | F23: -13160 | G23: ='Operating Working Capital'!G10-'Operating Working Capital'!H10 -> 5703.3357 | H23: ='Operating Working Capital'!H10-'Operating Working Capital'!I10 -> -6275.4765 | I23: ='Operating Working Capital'!I10-'Operating Working Capital'!J10 -> -6714.7599 | J23: ='Operating Working Capital'!J10-'Operating Working Capital'!K10 -> -7184.793
B24: Movement in balances with related parties | D24: 3722 | E24: -772 | F24: 1556 | G24: 0 | H24: 0 | I24: 0 | J24: 0 | L24: wtf
B25: Movement in balances with related companies | D25: -146033 | E25: -160998 | F25: 237577 | G25: 0 | H25: 0 | I25: 0 | J25: 0 | L25: wtf
B26: Decrease in an amount due from a director | D26: 428 | E26: 11722 | F26: 11158 | G26: 0 | H26: 0 | I26: 0 | J26: 0 | L26: wtf
B27: Increase/(decrease) in trade payables | D27: -15102 | E27: 14782 | F27: -1710 | G27: ='Operating Working Capital'!H14-'Operating Working Capital'!G14 -> 13989.288 | H27: ='Operating Working Capital'!I14-'Operating Working Capital'!H14 -> 8712.0101 | I27: ='Operating Working Capital'!J14-'Operating Working Capital'!I14 -> 9321.8508 | J27: ='Operating Working Capital'!K14-'Operating Working Capital'!J14 -> 9974.3804
B28: Increase/(decrease) in other payables and accruals | D28: -17645 | E28: 494 | F28: 20017 | G28: ='Operating Working Capital'!H16-'Operating Working Capital'!G16 -> 2916.2738 | H28: ='Operating Working Capital'!I16-'Operating Working Capital'!H16 -> 15385.039 | I28: ='Operating Working Capital'!J16-'Operating Working Capital'!I16 -> 16461.992 | J28: ='Operating Working Capital'!K16-'Operating Working Capital'!J16 -> 17614.331
B29: Increase in contract liabilities | D29: 4168 | E29: 12141 | F29: 13451 | G29: ='Operating Working Capital'!H18-'Operating Working Capital'!G18 -> -3054.2375 | H29: ='Operating Working Capital'!I18-'Operating Working Capital'!H18 -> 5040.5434 | I29: ='Operating Working Capital'!J18-'Operating Working Capital'!I18 -> 5393.3814 | J29: ='Operating Working Capital'!K18-'Operating Working Capital'!J18 -> 5770.9181
B30: Cash generated from operations | D30: =SUM(D6:D29) -> 220454 | E30: =SUM(E6:E29) -> 233613 | F30: =SUM(F6:F29) -> 618298 | G30: =SUM(G6:G29) -> 348113.74 | H30: =SUM(H6:H29) -> 358388.2 | I30: =SUM(I6:I29) -> 379480.42 | J30: =SUM(J6:J29) -> 408308.59
B31: Taxes Paid (HK + Overseas) | D31: -48471 | E31: -47948 | F31: -71959 | G31: ='Income Statement'!G21 -> -33933.489 | H31: ='Income Statement'!H21 -> -37317.596 | I31: ='Income Statement'!I21 -> -39013.396 | J31: ='Income Statement'!J21 -> -11833.025 | L31: Wrong way of looking but so be it
B32: Net cash flows from operating activities | D32: =SUM(D30:D31) -> 171983 | E32: =SUM(E30:E31) -> 185665 | F32: =SUM(F30:F31) -> 546339 | G32: =SUM(G30:G31) -> 314180.26 | H32: =SUM(H30:H31) -> 321070.6 | I32: =SUM(I30:I31) -> 340467.02 | J32: =SUM(J30:J31) -> 396475.56
B34: CASH FLOWS FROM INVESTING ACTIVITIES | D34: All Okay
B35: Interest received | D35: 10478 | E35: 13491 | F35: 2931 | G35: ='Debt Schedule'!H32 -> 3041.5292 | H35: ='Debt Schedule'!I32 -> 6062.9833 | I35: ='Debt Schedule'!J32 -> 4823.1173 | J35: ='Debt Schedule'!K32 -> 1753.2386 | L35: Debt Schedule
B36: Purchases of items of property, plant and equipment | D36: -230675 | E36: -297304 | F36: -222079 | G36: =Depreciation!G6 -> -159000 | H36: =Depreciation!H6 -> -213500 | I36: =Depreciation!I6 -> -1025000 | J36: =Depreciation!J6 -> -245857.07
B37: Purchase of an intangible asset | D37: -777 | E37: 0 | F37: 0 | G37: 0 | H37: 0 | I37: 0 | J37: 0 | L37: Non-recurring
B38: Proceeds from disposal of items of property, plant and equipment | D38: 5686 | E38: 16037 | F38: 4759 | G38: 0 | H38: 0 | I38: 0 | J38: 0 | L38: Unable to forecast
B39: Proceeds from disposal of investment properties | D39: 0 | E39: 51225 | F39: 0 | G39: 0 | H39: 0 | I39: 0 | J39: 0 | L39: Non-recurring
B40: Proceeds from disposal of financial assets at fair value through profit or loss | D40: 0 | E40: 3830 | F40: 0 | G40: 0 | H40: 0 | I40: 0 | J40: 0 | L40: Non-recurring
B41: Proceeds from disposal of debt investments at amortised cost | D41: 0 | E41: 0 | F41: 57701 | G41: 0 | H41: 0 | I41: 0 | J41: 0 | L41: Unable to forecast
B42: Disposal of subsidiaries | D42: 0 | E42: 0 | F42: 9560 | G42: 0 | H42: 0 | I42: 0 | J42: 0 | L42: Unable to forecast
...

Sheet Financial Metrics
B2: RAW DATA
B3: Year | C3: 2016A | D3: 2017A | E3: 2018A | F3: 2019E | G3: 2020E | H3: 2021E | I3: 2022E
B4: Revenue | C4: ='Income Statement'!D5 -> 2512970 | D4: ='Income Statement'!E5 -> 2771277 | E4: ='Income Statement'!F5 -> 3126053 | F4: ='Income Statement'!G5 -> 3344876.7 | G4: ='Income Statement'!H5 -> 3579018.1 | H4: ='Income Statement'!I5 -> 3829549.3 | I4: ='Income Statement'!J5 -> 4097617.8
A5: N/A | B5: Total current assets | C5: ='Balance Sheet'!D27 -> 1105972 | D5: ='Balance Sheet'!E27 -> 801650 | E5: ='Balance Sheet'!F27 -> 416708 | F5: ='Balance Sheet'!G27 -> 531478.34 | G5: ='Balance Sheet'!H27 -> 1019747.7 | H5: ='Balance Sheet'!I27 -> 299983.16 | I5: ='Balance Sheet'!J27 -> 423403.48
A6: N/A | B6: Total current liabilities | C6: ='Balance Sheet'!D36 -> 1320081 | D6: ='Balance Sheet'!E36 -> 1460106 | E6: ='Balance Sheet'!F36 -> 532595 | F6: ='Balance Sheet'!G36 -> 544988.19 | G6: ='Balance Sheet'!H36 -> 766433.26 | H6: ='Balance Sheet'!I36 -> 789379.49 | I6: ='Balance Sheet'!J36 -> 813931.95
A7: Liquidity Ratio | B7: Current Ratio | C7: =C5/C6 -> 0.83780616 | D7: =D5/D6 -> 0.54903548 | E7: =E5/E6 -> 0.78241065 | F7: =F5/F6 -> 0.97521074 | G7: =G5/G6 -> 1.3305108 | H7: =H5/H6 -> 0.38002401 | I7: =I5/I6 -> 0.52019518
A8: Liquidity Ratio | B8: Quick asset Ratio | C8: =('Balance Sheet'!D27-'Balance Sheet'!D15)/'Balance Sheet'!D36 -> 0.80772544 | D8: =('Balance Sheet'!E27-'Balance Sheet'!E15)/'Balance Sheet'!E36 -> 0.52221757 | E8: =('Balance Sheet'!F27-'Balance Sheet'!F15)/'Balance Sheet'!F36 -> 0.67622302 | F8: =('Balance Sheet'!G27-'Balance Sheet'!G15)/'Balance Sheet'!G36 -> 0.88289219 | G8: =('Balance Sheet'!H27-'Balance Sheet'!H15)/'Balance Sheet'!H36 -> 1.2602706 | H8: =('Balance Sheet'!I27-'Balance Sheet'!I15)/'Balance Sheet'!I36 -> 0.30705175 | I8: =('Balance Sheet'!J27-'Balance Sheet'!J15)/'Balance Sheet'!J36 -> 0.44447017
A9: Leverage Ratio | B9: Debt Ratio | C9: =('Balance Sheet'!D36+'Balance Sheet'!D42)/'Balance Sheet'!D50 -> 0.61454068 | D9: =('Balance Sheet'!E36+'Balance Sheet'!E42)/'Balance Sheet'!E50 -> 0.88589225 | E9: =('Balance Sheet'!F36+'Balance Sheet'!F42)/'Balance Sheet'!F50 -> 0.7383911 | F9: =('Balance Sheet'!G36+'Balance Sheet'!G42)/'Balance Sheet'!G50 -> 0.68991669 | G9: =('Balance Sheet'!H36+'Balance Sheet'!H42)/'Balance Sheet'!H50 -> 0.71355064 | H9: =('Balance Sheet'!I36+'Balance Sheet'!I42)/'Balance Sheet'!I50 -> 0.68136393 | I9: =('Balance Sheet'!J36+'Balance Sheet'!J42)/'Balance Sheet'!J50 -> 0.68274694
A10: Leverage Ratio | B10: Interest Coverage Ratio | C10: ='Income Statement'!D25/-'Income Statement'!D21 -> 7.4081568 | D10: ='Income Statement'!E25/-'Income Statement'!E21 -> 6.6319203 | E10: ='Income Statement'!F25/-'Income Statement'!F21 -> 9.5841834 | F10: ='Income Statement'!G25/-'Income Statement'!G21 -> 9.4950229 | G10: ='Income Statement'!H25/-'Income Statement'!H21 -> 9.1203289 | H10: ='Income Statement'!I25/-'Income Statement'!I21 -> 9.2321674 | I10: ='Income Statement'!J25/-'Income Statement'!J21 -> 32.760448
A11: Profitablity Ratio | B11: Gross Profit Margin | C11: ='Income Statement'!D7/'Income Statement'!D5 -> 0.70745293 | D11: ='Income Statement'!E7/'Income Statement'!E5 -> 0.71600457 | E11: ='Income Statement'!F7/'Income Statement'!F5 -> 0.71623578 | F11: ='Income Statement'!G7/'Income Statement'!G5 -> 0.715 | G11: ='Income Statement'!H7/'Income Statement'!H5 -> 0.715 | H11: ='Income Statement'!I7/'Income Statement'!I5 -> 0.715 | I11: ='Income Statement'!J7/'Income Statement'!J5 -> 0.715
A12: Profitablity Ratio | B12: Net Profit Margin | C12: ='Income Statement'!D37/'Income Statement'!D5 -> 0.088257719 | D12: ='Income Statement'!E37/'Income Statement'!E5 -> 0.080471566 | E12: ='Income Statement'!F37/'Income Statement'!F5 -> 0.093083834 | F12: ='Income Statement'!G37/'Income Statement'!G5 -> 0.044979659 | G12: ='Income Statement'!H37/'Income Statement'!H5 -> 0.037307077 | H12: ='Income Statement'!I37/'Income Statement'!I5 -> 0.045149856 | I12: ='Income Statement'!J37/'Income Statement'!J5 -> 0.0071511265
A13: Asset Management Ratio | B13: Total Asset Turnover | C13: ='Income Statement'!D5/'Balance Sheet'!D50 -> 1.1184663 | D13: ='Income Statement'!E5/'Balance Sheet'!E50 -> 1.5978424 | E13: ='Income Statement'!F5/'Balance Sheet'!F50 -> 2.2341605 | F13: ='Income Statement'!G5/'Balance Sheet'!G50 -> 2.2040658 | G13: ='Income Statement'!H5/'Balance Sheet'!H50 -> 1.7300471 | H13: ='Income Statement'!I5/'Balance Sheet'!I50 -> 1.7310874 | I13: ='Income Statement'!J5/'Balance Sheet'!J50 -> 1.8158358
B15: For the Slides
B16: Year | C16: 2016A | D16: 2017A | E16: 2018A | F16: 2019E | G16: 2020E | H16: 2021E | I16: 2022E
B17: Current Ratio | C17: =C7 -> 0.83780616 | D17: =D7 -> 0.54903548 | E17: =E7 -> 0.78241065 | F17: =F7 -> 0.97521074 | G17: =G7 -> 1.3305108 | H17: =H7 -> 0.38002401 | I17: =I7 -> 0.52019518
B18: Quick asset Ratio | C18: =C8 -> 0.80772544 | D18: =D8 -> 0.52221757 | E18: =E8 -> 0.67622302 | F18: =F8 -> 0.88289219 | G18: =G8 -> 1.2602706 | H18: =H8 -> 0.30705175 | I18: =I8 -> 0.44447017
B19: Debt Ratio | C19: =C9 -> 0.61454068 | D19: =D9 -> 0.88589225 | E19: =E9 -> 0.7383911 | F19: =F9 -> 0.68991669 | G19: =G9 -> 0.71355064 | H19: =H9 -> 0.68136393 | I19: =I9 -> 0.68274694
B20: Interest Coverage Ratio | C20: =C10 -> 7.4081568 | D20: =D10 -> 6.6319203 | E20: =E10 -> 9.5841834 | F20: =F10 -> 9.4950229 | G20: =G10 -> 9.1203289 | H20: =H10 -> 9.2321674 | I20: =I10 -> 32.760448
B22: For the Slides
B23: Year | C23: 2016A | D23: 2017A | E23: 2018A | F23: 2019E | G23: 2020E | H23: 2021E | I23: 2022E
B24: Revenue (HK$’000) | C24: =C4 -> 2512970 | D24: =D4 -> 2771277 | E24: =E4 -> 3126053 | F24: =F4 -> 3344876.7 | G24: =G4 -> 3579018.1 | H24: =H4 -> 3829549.3 | I24: =I4 -> 4097617.8
B25: Gross Profit Margin | C25: =C11 -> 0.70745293 | D25: =D11 -> 0.71600457 | E25: =E11 -> 0.71623578 | F25: =F11 -> 0.715 | G25: =G11 -> 0.715 | H25: =H11 -> 0.715 | I25: =I11 -> 0.715
B26: Net Profit Margin | C26: =C12 -> 0.088257719 | D26: =D12 -> 0.080471566 | E26: =E12 -> 0.093083834 | F26: =F12 -> 0.044979659 | G26: =G12 -> 0.037307077 | H26: =H12 -> 0.045149856 | I26: =I12 -> 0.0071511265
B27: Total Asset Turnover | C27: =C13 -> 1.1184663 | D27: =D13 -> 1.5978424 | E27: =E13 -> 2.2341605 | F27: =F13 -> 2.2040658 | G27: =G13 -> 1.7300471 | H27: =H13 -> 1.7310874 | I27: =I13 -> 1.8158358
B28: Current Ratio | C28: =C7 -> 0.83780616 | D28: =D7 -> 0.54903548 | E28: =E7 -> 0.78241065 | F28: =F7 -> 0.97521074 | G28: =G7 -> 1.3305108 | H28: =H7 -> 0.38002401 | I28: =I7 -> 0.52019518
B29: Debt Ratio | C29: =C9 -> 0.61454068 | D29: =D9 -> 0.88589225 | E29: =E9 -> 0.7383911 | F29: =F9 -> 0.68991669 | G29: =G9 -> 0.71355064 | H29: =H9 -> 0.68136393 | I29: =I9 -> 0.68274694
B31: Useful Links:
B32: http://www.candor-holdings.com/equities/wp-content/uploads/sites/2/2016/02/types_of_financial_ratios_19mar_2012.pdf

Sheet Depreciation
D2: Historical | G2: Projection Period
B3: Year ended 31st December | D3: 2016A | E3: 2017A | F3: 2018A | G3: 2019F | H3: 2020F | I3: 2021F | J3: 2022F
C4: HK$’000
B5: Revenue | D5: ='Income Statement'!D5 -> 2512970 | E5: ='Income Statement'!E5 -> 2771277 | F5: ='Income Statement'!F5 -> 3126053 | G5: ='Income Statement'!G5 -> 3344876.7 | H5: ='Income Statement'!H5 -> 3579018.1 | I5: ='Income Statement'!I5 -> 3829549.3 | J5: ='Income Statement'!J5 -> 4097617.8
B6: Capital Expenditures | D6: ='Cash Flow Statement'!D36 -> -230675 | E6: ='Cash Flow Statement'!E36 -> -297304 | F6: ='Cash Flow Statement'!F36 -> -222079 | G6: =-G17 -> -159000 | H6: =-H17 -> -213500 | I6: =-I17 -> -1025000 | J6: =-J17 -> -245857.07
B7: Capital Expenditures as a % of Revenue | D7: =-D6/D5 -> 0.091793774 | E7: =-E6/E5 -> 0.10728051 | F7: =-F6/F5 -> 0.071041342 | G7: =-G6/G5 -> 0.047535384 | H7: =-H6/H5 -> 0.059653233 | I7: =-I6/I5 -> 0.26765551 | J7: =-J6/J5 -> 0.06
B8: Depreciation | D8: ='Income Statement'!D12 -> -128995 | E8: ='Income Statement'!E12 -> -133396 | F8: ='Income Statement'!F12 -> -147813 | G8: =-G11*F9 -> -152531.81 | H8: =-H11*G9 -> -153760.77 | I8: =-I11*H9 -> -165111.22 | J8: =-J11*I9 -> -328490.09
B9: Property, plant and equipment | D9: ='Balance Sheet'!D6 -> 721674 | E9: ='Balance Sheet'!E6 -> 743305 | F9: ='Balance Sheet'!F6 -> 802799 | G9: =F9+G17+G8 -> 809267.19 | H9: =G9+H17+H8 -> 869006.42 | I9: =H9+I17+I8 -> 1728895.2 | J9: =I9+J17+J8 -> 1646262.2
B10: Depreciaiton as a % of Total Revenue | D10: =-D8/D5 -> 0.051331691 | E10: =-E8/E5 -> 0.04813521 | F10: =-F8/F5 -> 0.047284227 | G10: =-G8/G5 -> 0.045601624 | H10: =-H8/H5 -> 0.042961718 | I10: =-I8/I5 -> 0.043115052 | J10: =-J8/J5 -> 0.080166112 | L10: It is estimated that there will be an increase in depreciation expenses of HK$31.6 million for FY2019
B11: Depreciaiton as a % of Last Year's PPE | E11: =-E8/D9 -> 0.18484246 | F11: =-F8/E9 -> 0.19885915 | G11: 0.19 | H11: 0.19 | I11: 0.19 | J11: 0.19
B13: Expected PPE
B14: Expansion Plan Projected Total | G14: 159000 | H14: 213500 | I14: 392000 | J14: =J15*J5 -> 245857.07 | L14: Expand the restaurant network, uplift the existing restaurants, as well as enhance and expand the Food Factories
B15: Projected CAPEX as a % of Projected Revenue | G15: =G14/G5 -> 0.047535384 | H15: =H14/H5 -> 0.059653233 | I15: =I14/I5 -> 0.10236191 | J15: 0.06
B16: Acquiring of new China Food Factory | G16: 0 | H16: 0 | I16: 633000 | J16: 0
B17: Total Expected PPE | G17: =G14+G16 -> 159000 | H17: =H14+H16 -> 213500 | I17: =I14+I16 -> 1025000 | J17: =J14+J16 -> 245857.07
B19: Deferred Tax Assets & Liabiliteis Page 436 + 437
B20: Page 437**
B22: Assumption of no changes in deferred taxes

Sheet Operating Working Capital
E2: Historical | H2: Projection Period
B3: Year ended 31st December | E3: 2016A | F3: 2017A | G3: 2018A | H3: 2019F | I3: 2020F | J3: 2021F | K3: 2022F | M3: DRIVERS
D4: HK$’000
B5: Current assets
B6: 1 | C6: Inventories | E6: ='Balance Sheet'!D15 -> 39709 | F6: ='Balance Sheet'!E15 -> 39157 | G6: ='Balance Sheet'!F15 -> 56555 | H6: =-H7*'Income Statement'!G6/360 -> 50312.521 | I6: =-I7*'Income Statement'!H6/360 -> 53834.397 | J6: =-J7*'Income Statement'!I6/360 -> 57602.805 | K6: =-K7*'Income Statement'!J6/360 -> 61635.001 | M6: COGS
D7: Inventory turnover days | F7: =-AVERAGE(E6:F6)*360/'Income Statement'!E6 -> 18.037279 | G7: =-AVERAGE(F6:G6)*360/'Income Statement'!F6 -> 19.421596 | H7: 19 | I7: =H7 -> 19 | J7: =I7 -> 19 | K7: =J7 -> 19
B8: 2 | C8: Trade receivables | E8: ='Balance Sheet'!D16 -> 8127 | F8: ='Balance Sheet'!E16 -> 19327 | G8: ='Balance Sheet'!F16 -> 18700 | H8: =H9*'Income Statement'!G5/360 -> 18582.648 | I8: =I9*'Income Statement'!H5/360 -> 19883.434 | J8: =J9*'Income Statement'!I5/360 -> 21275.274 | K8: =K9*'Income Statement'!J5/360 -> 22764.543 | M8: Income
D9: Days receivable | F9: =AVERAGE(E8:F8)*360/'Income Statement'!E5 -> 1.7831924 | G9: =AVERAGE(F8:G8)*360/'Income Statement'!F5 -> 2.1896174 | H9: 2 | I9: =H9 -> 2 | J9: =I9 -> 2 | K9: =J9 -> 2
B10: 3 | C10: Prepayments, deposits and other receivables | E10: ='Balance Sheet'!D17 -> 71291 | F10: ='Balance Sheet'!E17 -> 80267 | G10: ='Balance Sheet'!F17 -> 95353 | H10: =-H11*'Income Statement'!G19/360 -> 89649.664 | I10: =-I11*'Income Statement'!H19/360 -> 95925.141 | J10: =-J11*'Income Statement'!I19/360 -> 102639.9 | K10: =-K11*'Income Statement'!J19/360 -> 109824.69 | M10: SG&A
D11: Days receivable | F11: =-AVERAGE(E10:F10)*360/'Income Statement'!E19 -> 16.982398 | G11: =-AVERAGE(F10:G10)*360/'Income Statement'!F19 -> 16.776968 | H11: 15.5 | I11: =H11 -> 15.5 | J11: =I11 -> 15.5 | K11: =J11 -> 15.5
B13: Current liabilities
B14: 4 | C14: Trade payables | E14: ='Balance Sheet'!D30 -> 97210 | F14: ='Balance Sheet'!E30 -> 113286 | G14: ='Balance Sheet'!F30 -> 110468 | H14: =-H15*'Income Statement'!G6/360 -> 124457.29 | I14: =-I15*'Income Statement'!H6/360 -> 133169.3 | J14: =-J15*'Income Statement'!I6/360 -> 142491.15 | K14: =-K15*'Income Statement'!J6/360 -> 152465.53 | M14: COGS
D15: Days payable | F15: =-AVERAGE(E14:F14)*360/'Income Statement'!E6 -> 48.142104 | G15: =-AVERAGE(F14:G14)*360/'Income Statement'!F6 -> 45.403501 | H15: 47 | I15: =H15 -> 47 | J15: =I15 -> 47 | K15: =J15 -> 47
B16: 5 | C16: Other payables and accruals | E16: ='Balance Sheet'!D31 -> 198033 | F16: ='Balance Sheet'!E31 -> 191928 | G16: ='Balance Sheet'!F31 -> 216870 | H16: =-H17*'Income Statement'!G19/360 -> 219786.27 | I16: =-I17*'Income Statement'!H19/360 -> 235171.31 | J16: =-J17*'Income Statement'!I19/360 -> 251633.3 | K16: =-K17*'Income Statement'!J19/360 -> 269247.64 | M16: SG&A
D17: Days payable | F17: =-AVERAGE(E16:F16)*360/'Income Statement'!E19 -> 43.695965 | G17: =-AVERAGE(F16:G16)*360/'Income Statement'!F19 -> 39.052449 | H17: 38 | I17: =H17 -> 38 | J17: =I17 -> 38 | K17: =J17 -> 38
B18: 6 | C18: Contract liabilities | E18: ='Balance Sheet'!D32 -> 52546 | F18: ='Balance Sheet'!E32 -> 62733 | G18: ='Balance Sheet'!F32 -> 75062 | H18: =H19*'Income Statement'!G5/360 -> 72007.763 | I18: =I19*'Income Statement'!H5/360 -> 77048.306 | J18: =J19*'Income Statement'!I5/360 -> 82441.687 | K18: =K19*'Income Statement'!J5/360 -> 88212.605 | M18: Income
D19: Days payable | F19: =AVERAGE(E18:F18)*360/'Income Statement'!E5 -> 7.4876023 | G19: =AVERAGE(F18:G18)*360/'Income Statement'!F5 -> 7.9343185 | H19: 7.75 | I19: =H19 -> 7.75 | J19: =I19 -> 7.75 | K19: =J19 -> 7.75
B20: 7 | C20: Tax payable | E20: ='Balance Sheet'!D35 -> 18317 | F20: ='Balance Sheet'!E35 -> 30246 | G20: ='Balance Sheet'!F35 -> 17838 | H20: =-H21*'Income Statement'!G21/360 -> 14610.252 | I20: =-I21*'Income Statement'!H21/360 -> 16067.298 | J20: =-J21*'Income Statement'!I21/360 -> 16797.434 | K20: =-K21*'Income Statement'!J21/360 -> 5094.7748 | M20: Income Taxes Paid
D21: Days payable | F21: =-AVERAGE(E20:F20)*360/'Income Statement'!E21 -> 143.51711 | G21: =-AVERAGE(F20:G20)*360/'Income Statement'!F21 -> 164.10299 | H21: 155 | I21: =H21 -> 155 | J21: =I21 -> 155 | K21: =J21 -> 155
B23: Total operating working capital | E23: =E6+E8+E10-E14-E16-E18-E20 -> -246979 | F23: =F6+F8+F10-F14-F16-F18-F20 -> -259442 | G23: =G6+G8+G10-G14-G16-G18-G20 -> -249630 | H23: =H6+H8+H10-H14-H16-H18-H20 -> -272316.74 | I23: =I6+I8+I10-I14-I16-I18-I20 -> -291813.24 | J23: =J6+J8+J10-J14-J16-J18-J20 -> -311845.6 | K23: =K6+K8+K10-K14-K16-K18-K20 -> -320796.31
B24: Change in total operating working capital | F24: =F23-E23 -> -12463 | G24: =G23-F23 -> 9812 | H24: =H23-G23 -> -22686.743 | I24: =I23-H23 -> -19496.5 | J24: =J23-I23 -> -20032.352 | K24: =K23-J23 -> -8950.7118

Sheet Debt Schedule
E2: Historical | H2: Projection Period
B3: Year ended 31st December | E3: 2016A | F3: 2017A | G3: 2018A | H3: 2019F | I3: 2020F | J3: 2021F | K3: 2022F
B5: Cash available to pay down debt
C6: Cash at beginning of year | H6: =G31 -> 242162 | I6: =H31 -> 366143.83 | J6: =I31 -> 846452.84 | K6: =J31 -> 118170.63
C7: Cash flow before debt paydown | H7: ='Cash Flow Statement'!G65 -> 123981.83 | I7: ='Cash Flow Statement'!H65 -> 80309.002 | J7: ='Cash Flow Statement'!I65 -> -728282.21 | K7: ='Cash Flow Statement'!J65 -> 114306.46
C8: Minimum cash cushion | H8: 0 | I8: 0 | J8: 0 | K8: 0
C9: Total cash available to pay down debt | H9: =SUM(H6:H8) -> 366143.83 | I9: =SUM(I6:I8) -> 446452.84 | J9: =SUM(J6:J8) -> 118170.63 | K9: =SUM(K6:K8) -> 232477.08
B11: Short term borrowings / revolver
C12: Short term borrowings (beginning of year) | H12: =G15 -> 112357 | I12: =H15 -> 112357 | J12: =I15 -> 412357 | K12: =J15 -> 412357
C13: Mandatory issuances / (retirements) | H13: 0 | I13: 200000 | J13: 0 | K13: 0
C14: Non-mandatory issuances / (retirements) | H14: 0 | I14: 100000 | J14: 0 | K14: 0
C15: Short term borrowings (end of year) | G15: ='Balance Sheet'!F34 -> 112357 | H15: =SUM(H12:H14) -> 112357 | I15: =SUM(I12:I14) -> 412357 | J15: =SUM(J12:J14) -> 412357 | K15: =SUM(K12:K14) -> 412357
C16: Short term interest expense | H16: =AVERAGE(H12,H15)*H17 -> 2808.925 | I16: =AVERAGE(I12,I15)*I17 -> 6558.925 | J16: =AVERAGE(J12,J15)*J17 -> 10308.925 | K16: =AVERAGE(K12,K15)*K17 -> 10308.925
D17: Short term interest rate | H17: 0.025 | I17: 0.025 | J17: 0.025 | K17: 0.025
B19: Long term borrowings / revolver
C20: Long term borrowings (beginning of year) | H20: =G23 -> 424802 | I20: =H23 -> 424802 | J20: =I23 -> 524802 | K20: =J23 -> 524802
C21: Mandatory issuances / (retirements) | H21: 0 | I21: 0 | J21: 0 | K21: 0
C22: Non-mandatory issuances / (retirements) | H22: 0 | I22: 100000 | J22: 0 | K22: 0
C23: Long term borrowings (end of year) | G23: ='Balance Sheet'!F40 -> 424802 | H23: =SUM(H20:H22) -> 424802 | I23: =SUM(I20:I22) -> 524802 | J23: =SUM(J20:J22) -> 524802 | K23: =SUM(K20:K22) -> 524802
C24: Long term interest expense | H24: =AVERAGE(H20,H23)*H25 -> 17841.684 | I24: =AVERAGE(I20,I23)*I25 -> 19941.684 | J24: =AVERAGE(J20,J23)*J25 -> 22041.684 | K24: =AVERAGE(K20,K23)*K25 -> 22041.684
D25: Long term interest rate | H25: 0.042 | I25: 0.042 | J25: 0.042 | K25: 0.042
C27: Total issuances / (retirements) | H27: =SUM(H13:H14)+SUM(H21:H22) -> 0 | I27: =SUM(I13:I14)+SUM(I21:I22) -> 400000 | J27: =SUM(J13:J14)+SUM(J21:J22) -> 0 | K27: =SUM(K13:K14)+SUM(K21:K22) -> 0
C29: Total interest expense | H29: =H16+H24 -> 20650.609 | I29: =I16+I24 -> 26500.609 | J29: =J16+J24 -> 32350.609 | K29: =K16+K24 -> 32350.609
C31: Cash at the end of the year | G31: ='Balance Sheet'!F25 -> 242162 | H31: =H6+H7+H27 -> 366143.83 | I31: =I6+I7+I27 -> 846452.84 | J31: =J6+J7+J27 -> 118170.63 | K31: =K6+K7+K27 -> 232477.08
C32: Interest income | H32: =AVERAGE(H6,H31)*H33 -> 3041.5292 | I32: =AVERAGE(I6,I31)*I33 -> 6062.9833 | J32: =AVERAGE(J6,J31)*J33 -> 4823.1173 | K32: =AVERAGE(K6,K31)*K33 -> 1753.2386
D33: Interest rate | H33: 0.01 | I33: 0.01 | J33: 0.01 | K33: 0.01
D35: ^ Links
D36: Ranges of interest rates were given in Page 316

Sheet DCF Analysis
D2: Historical | G2: Projection Period
B3: Year ended 31st December | D3: 2016A | E3: 2017A | F3: 2018A | G3: 2019F | H3: 2020F | I3: 2021F | J3: 2022F
B5: Unlevered Free Cash Flow
B6: EBIT | G6: ='Income Statement'!G25 -> 322199.25 | H6: ='Income Statement'!H25 -> 340348.74 | I6: ='Income Statement'!I25 -> 360178.2 | J6: ='Income Statement'!J25 -> 387655.22
B7: Depreciation & Amortization | G7: =-Depreciation!G8 -> 152531.81 | H7: =-Depreciation!H8 -> 153760.77 | I7: =-Depreciation!I8 -> 165111.22 | J7: =-Depreciation!J8 -> 328490.09
B8: Deferred Taxes
B9: Other
B10: Changes in Working Capital | G10: =-'Operating Working Capital'!H24 -> 22686.743 | H10: =-'Operating Working Capital'!I24 -> 19496.5 | I10: =-'Operating Working Capital'!J24 -> 20032.352 | J10: =-'Operating Working Capital'!K24 -> 8950.7118
B11: Capital Expenditures | G11: =Depreciation!G6 -> -159000 | H11: =Depreciation!H6 -> -213500 | I11: =Depreciation!I6 -> -1025000 | J11: =Depreciation!J6 -> -245857.07
B12: Taxes | G12: ='Cash Flow Statement'!G31 -> -33933.489 | H12: ='Cash Flow Statement'!H31 -> -37317.596 | I12: ='Cash Flow Statement'!I31 -> -39013.396 | J12: ='Cash Flow Statement'!J31 -> -11833.025
B13: Total Unlevered Free Cash Flow | G13: =SUM(G6:G12) -> 304484.32 | H13: =SUM(H6:H12) -> 262788.42 | I13: =SUM(I6:I12) -> -518691.62 | J13: =SUM(J6:J12) -> 467405.92
B15: Net Present Value Calulation
B16: Period | G16: 1 | H16: 2 | I16: 3 | J16: 4
B17: Discounted Cash Flow | F17: =L28 -> 0.078033342 | G17: =G13/(1+$F$17)^G16 -> 282444.25 | H17: =H13/(1+$F$17)^H16 -> 226121.49 | I17: =I13/(1+$F$17)^I16 -> -414011.74 | J17: =J13/(1+$F$17)^J16 -> 346071.18
B18: Total Net Present Value | G18: =SUM(G17:J17) -> 440625.18
B20: Terminal Value
B21: EBITDA Method | J21: Cost of Capital
C22: Exit Year EBITDA | F22: ='Income Statement'!F24 -> 526692 | J22: Risk Free Rate | L22: 0.016 | M22: Debt YE 2018 | O22: ='Balance Sheet'!F34+'Balance Sheet'!F40 -> 537159
C23: Multiple | F23: =(O22+O25-'Balance Sheet'!F25)/'Income Statement'!F24 -> 5.4965654 | J23: Market Risk Premium | L23: 0.0665 | M23: Stock Price | O23: 2.6
C24: Terminal Value | F24: =F23*F22 -> 2894997 | J24: Beta | L24: 0.67 | M24: Shares Outstanding | O24: 1000000000
C25: Net Present Value | F25: =F24/(1+F17)^J16 -> 2143479.6 | J25: Cost of Equity | L25: =L22+L23*L24 -> 0.060555 | M25: Equity Value | O25: =O24*O23/1000 -> 2600000
B26: Perpetuity Method | J26: Cost of Debt | L26: ='Debt Schedule'!H25 -> 0.042
C27: Unlevered Free Cash Flow | F27: =J17 -> 346071.18
C28: Growth Rate | F28: 0.02 | J28: WACC | L28: =L25*(O25/(O22+O25))+L26*(O25/(O22+O25))*(1-'Income Statement'!G54) -> 0.078033342
C29: Terminal Value | F29: =F27*(1+F28)/(F17-F28) -> 6082582.8
C30: Net Present Value | F30: =F29/(1+F17)^J16 -> 4503594.3 | J30: Need to use a MRP based on the index, S&P500
B32: Discounted Cash Flow Total Valuation | E32: EBITDA Method | F32: Perpetuity Method | J32: ^ Cost of debt should use current rates of debt
B33: Total of Present Value of Cash Flows | E33: =G18 -> 440625.18 | F33: =G18 -> 440625.18 | G33: sama sama | J33: Current Corporate Debt Rating would be amazing
B34: Present Value of Terminal Value | E34: =F25 -> 2143479.6 | F34: =F30 -> 4503594.3
B35: Total Enterprise Value | E35: =SUM(E33:E34) -> 2584104.7 | F35: =SUM(F33:F34) -> 4944219.5
B36: Net Debt, Non-controlling interests, preferred securities | E36: =O22-'Balance Sheet'!F25 -> 294997 | F36: =O22-'Balance Sheet'!F25 -> 294997 | G36: sama sama
B37: Equity Value | E37: =E35-E36 -> 2289107.7 | F37: =F35-F36 -> 4649222.5
B38: Share Count (millions) | E38: =O24/1000 -> 1000000 | F38: =O24/1000 -> 1000000 | G38: sama sama
B39: Estimated Equity Value per Share | E39: =E37/E38 -> 2.2891077 | F39: =F37/F38 -> 4.6492225
