Workbook

Sheet Cover
B2: Wynn Macau
G4: Company Description
G5: Wynn Macau is an operator of integrated casino resorts in Macau. Wynn Macau and Encore, located on the peninsula, boasted 376 gaming tables and 804 slots at the end of 2016. The firm also has two hotels with 1,008 rooms and 57,000 square feet of retail space featuring high-end brand-name stores. The HKD 34 billion Wynn Palace, situated in Cotai, had 296 tables and 906 slots at the end of 2016. It has 1,706 rooms and 105,000 square feet of high-end retail area. Wynn Resorts has a 72% stake in Wynn Macau.
B14: General Information | G14: Sheet Navigator
B15: Company Name: | C15: Wynn Macau | G15: 1. Income Statement | H15: Consolidated annual income statement
B16: Ticker: | C16: HK:1128 | G16: 2. Balance Sheet | H16: Consolidated annual balance sheet
B17: Last Historical Year: | C17: 43465 | E17: Colour Convention | G17: 3. Cash Flow Statement | H17: Consolidated statement of cash flows
B18: Indsutry | C18: Casino/Hotels & Resorts | E18: Blue: Hard-coded numbers | G18: 4. Depreciation | H18: Projeciton of PPE and Depreciation
B19: Valuation Date: | C19: 7th of July | E19: Blue with highlight: Assumptions | G19: 5. Operating Working Capital | H19: Projection of Working Capital Accounts
B20: Current Price (HKD): | C20: 18.56 | E20: Black: Excel formula | G20: 6. Debt Schedule | H20: Projection of Issuances and Retirements of Debt
B21: Target Price (HKD): | C21: ='DCF Analysis'!E39 -> 10.140878 | E21: Green: Linked items from other worksheets | G21: 7. DCF Analysis | H21: Unlevered Cash Flows and WACC calculations
A29: Bear
A30: Base
A31: Bull

Sheet Income Statement
D2: Historical | H2: Projection Period
B3: Year ended 31st December | D3: 2015A | E3: 2016A | F3: 2017A | G3: 2018A | H3: 2019E | I3: 2020E | J3: 2021E | K3: 2022E | L3: 2023E | N3: Description
B5: Operating Revenues
B6: Casino | D6: 17887237 | E6: 20552497 | F6: 29519830 | G6: 34096436
B7: Rooms | D7: 122790 | E7: 246558 | F7: 1695558 | G7: 2222337
B8: Food and Beverage | D8: 221872 | E8: 329712 | F8: 1279559 | G8: 1465549
B9: Retail and other | D9: 864466 | E9: 970711 | F9: 1536970 | G9: 1807491
B10: Total Revenues | D10: =SUM(D6:D9) -> 19096365 | E10: =SUM(E6:E9) -> 22099478 | F10: =SUM(F6:F9) -> 34031917 | G10: =SUM(G6:G9) -> 39591813 | H10: =G10*(1+H11) -> 43550994 | I10: =H10*(1+I11) -> 47906094 | J10: =I10*(1+J11) -> 52696703 | K10: =J10*(1+K11) -> 57966373 | L10: =K10*(1+L11) -> 63763011
B11: Y/Y revenue growth | E11: =(E10-D10)/D10 -> 0.15726098 | F11: =(F10-E10)/E10 -> 0.53994212 | G11: =(G10-F10)/F10 -> 0.16337299 | H11: 0.1 | I11: 0.1 | J11: 0.1 | K11: 0.1 | L11: 0.1 | N11: Conservative estimate given
B13: Operating costs and expenses
B14: Gaming taxes and premiums | D14: 8700935 | E14: 10013231 | F14: 16736688 | G14: 18928022
B15: Staff costs | D15: 3121416 | E15: 3947835 | F15: 4611673 | G15: 4986764
B16: Other operating expenses | D16: 3229983 | E16: 4257669 | F16: 4404471 | G16: 5098242
B17: Depreciation and amortization | D17: 1000373 | E17: 1591397 | F17: 2775977 | G17: 2726414
B18: Property charges and other | D18: 11599 | E18: 24814 | F18: 133464 | G18: 153916
B19: Total Operating Costs | D19: =SUM(D14:D18) -> 16064306 | E19: =SUM(E14:E18) -> 19834946 | F19: =SUM(F14:F18) -> 28662273 | G19: =SUM(G14:G18) -> 31893358 | H19: =H10*H20 -> 36582835 | I19: =I10*I20 -> 40241119 | J19: =J10*J20 -> 44265231 | K19: =K10*K20 -> 48691754 | L19: =L10*L20 -> 53560929
B20: Operating costs as a % of revenue | D20: =D19/D10 -> 0.84122324 | E20: =E19/E10 -> 0.89753007 | F20: =F19/F10 -> 0.84221741 | G20: =G19/G10 -> 0.80555437 | H20: 0.84 | I20: 0.84 | J20: 0.84 | K20: 0.84 | L20: 0.84
B22: Self calculated SG&A | D22: =D14+D15+D18 -> 11833950 | E22: =E14+E15+E18 -> 13985880 | F22: =F14+F15+F18 -> 21481825 | G22: =G14+G15+G18 -> 24068702 | H22: =G22*(1+(H19-G19)/G19) -> 27607672 | I22: =H22*(1+(I19-H19)/H19) -> 30368439 | J22: =I22*(1+(J19-I19)/I19) -> 33405283 | K22: =J22*(1+(K19-J19)/J19) -> 36745811 | L22: =K22*(1+(L19-K19)/K19) -> 40420392
B23: SG&A as a % of Revenue | D23: =D22/D10 -> 0.61969647 | E23: =E22/E10 -> 0.6328602 | F23: =F22/F10 -> 0.63122583 | G23: =G22/G10 -> 0.60792119 | H23: =H22/H10 -> 0.63391599 | I23: =I22/I10 -> 0.63391599 | J23: =J22/J10 -> 0.63391599 | K23: =K22/K10 -> 0.63391599 | L23: =L22/L10 -> 0.63391599
B24: Self calculated COGS | D24: =D16 -> 3229983 | E24: =E16 -> 4257669 | F24: =F16 -> 4404471 | G24: =G16 -> 5098242 | H24: =G24*(1+(H19-G19)/G19) -> 5847868 | I24: =H24*(1+(I19-H19)/H19) -> 6432654.8 | J24: =I24*(1+(J19-I19)/I19) -> 7075920.3 | K24: =J24*(1+(K19-J19)/J19) -> 7783512.3 | L24: =K24*(1+(L19-K19)/K19) -> 8561863.5
B25: COGS as a % of Revenue | D25: =D24/D10 -> 0.16914125 | E25: =E24/E10 -> 0.19265926 | F25: =F24/F10 -> 0.12942177 | G25: =G24/G10 -> 0.12877011 | H25: =H24/H10 -> 0.13427634 | I25: =I24/I10 -> 0.13427634 | J25: =J24/J10 -> 0.13427634 | K25: =K24/K10 -> 0.13427634 | L25: =L24/L10 -> 0.13427634
B27: Operating Profit | D27: =D10-D19 -> 3032059 | E27: =E10-E19 -> 2264532 | F27: =F10-F19 -> 5369644 | G27: =G10-G19 -> 7698455 | H27: =H10-H19 -> 6968159.1 | I27: =I10-I19 -> 7664975 | J27: =J10-J19 -> 8431472.5 | K27: =K10-K19 -> 9274619.7 | L27: =L10-L19 -> 10202082
B29: Interest
B30: Finance revenues | D30: 31199 | E30: 24174 | F30: 14964 | G30: 102592 | H30: ='Debt Schedule'!I33 -> 77814.084 | I30: ='Debt Schedule'!J33 -> 102501.36 | J30: ='Debt Schedule'!K33 -> 131303.46 | K30: ='Debt Schedule'!L33 -> 162865.71 | L30: ='Debt Schedule'!M33 -> 197384.81
B31: Finance costs | D31: -595628 | E31: -838055 | F31: -1269784 | G31: -1495646 | H31: =-'Debt Schedule'!I30 -> -1323125.9 | I31: =-'Debt Schedule'!J30 -> -1323125.9 | J31: =-'Debt Schedule'!K30 -> -1323125.9 | K31: =-'Debt Schedule'!L30 -> -1323125.9 | L31: =-'Debt Schedule'!M30 -> -1323125.9
B32: Net foreign currency differences | D32: 12853 | E32: -6051 | F32: -169773 | G32: -40132 | H32: 0 | I32: 0 | J32: 0 | K32: 0 | L32: 0
B33: Loss on extinguishment of debt | D33: -41078 | E33: 3359 | F33: -223928 | G33: -7452 | H33: 0 | I33: 0 | J33: 0 | K33: 0 | L33: 0 | N33: Seems non-recurring to me. W0t
B34: Others | D34: -22545 | E34: 0 | F34: -8202 | G34: 0 | H34: 0 | I34: 0 | J34: 0 | K34: 0 | L34: 0 | N34: Seems non-recurring to me. Need debt schedule??
N35: Assumes no debt is extinguished
B36: Profit Before Tax | D36: =D27+SUM(D30:D34) -> 2416860 | E36: =E27+SUM(E30:E34) -> 1447959 | F36: =F27+SUM(F30:F34) -> 3712921 | G36: =G27+SUM(G30:G34) -> 6257817 | H36: =H27+SUM(H30:H34) -> 5722847.3 | I36: =I27+SUM(I30:I34) -> 6444350.5 | J36: =J27+SUM(J30:J34) -> 7239650.1 | K36: =K27+SUM(K30:K34) -> 8114359.6 | L36: =L27+SUM(L30:L34) -> 9076340.7
B38: Income Tax Expense | D38: 6462 | E38: 12427 | F38: 12427 | G38: 12427 | H38: 12427 | I38: 12427 | J38: 12427 | K38: =K39*K36 -> 973723.15 | L38: =L39*L36 -> 1089160.9 | N38: Hard Assumption made here
B39: Projected Income Tax % | H39: exempted | I39: exempted | J39: tax credits | K39: 0.12 | L39: 0.12 | N39: Possible for a reduction of the 12%
B41: Net Profit | D41: =D36-D38 -> 2410398 | E41: =E36-E38 -> 1435532 | F41: =F36-F38 -> 3700494 | G41: =G36-G38 -> 6245390 | H41: =H36-H38 -> 5710420.3 | I41: =I36-I38 -> 6431923.5 | J41: =J36-J38 -> 7227223.1 | K41: =K36-K38 -> 7140636.4 | L41: =L36-L38 -> 7987179.8
B43: Other Comprehensive Income
B44: Currency translation reserve | D44: 0 | E44: 480 | F44: -208 | G44: 0 | H44: 0 | I44: 0 | J44: 0 | K44: 0 | L44: 0 | N44: what is this
B46: Total Comprehensive Income | D46: =D41+D44 -> 2410398 | E46: =E41+E44 -> 1436012 | F46: =F41+F44 -> 3700286 | G46: =G41+G44 -> 6245390 | H46: =H41+H44 -> 5710420.3 | I46: =I41+I44 -> 6431923.5 | J46: =J41+J44 -> 7227223.1 | K46: =K41+K44 -> 7140636.4 | L46: =L41+L44 -> 7987179.8
B48: Average common shares outstanding | D48: 2015A | E48: 2016A | F48: 2017A | G48: 2018A | H48: 2019E | I48: 2020E | J48: 2021E | K48: 2022E | L48: 2023E
B49: Basic | D49: =5186778378/1000000 -> 5186.7784 | E49: =5180191705/1000000 -> 5180.1917 | F49: =5181324925/1000000 -> 5181.3249 | G49: =5185494355/1000000 -> 5185.4944 | H49: =G49 -> 5185.4944 | I49: =H49 -> 5185.4944 | J49: =I49 -> 5185.4944 | K49: =J49 -> 5185.4944 | L49: =K49 -> 5185.4944 | N49: Page 151
B50: Diluted | D50: =5186943827/1000000 -> 5186.9438 | E50: =5181398605/1000000 -> 5181.3986 | F50: =5189138935/1000000 -> 5189.1389 | G50: =5193287221/1000000 -> 5193.2872 | H50: =G50 -> 5193.2872 | I50: =H50 -> 5193.2872 | J50: =I50 -> 5193.2872 | K50: =J50 -> 5193.2872 | L50: =K50 -> 5193.2872 | N50: Assume no changes
B51: excludes shares reserved for ownership scheme | N51: What happens if there is share purchases

Sheet Balance Sheet
D2: Historical | H2: Projection Period
B3: Year ended 31st December | D3: 2015A | E3: 2016A | F3: 2017A | G3: 2018A | H3: 2019E | I3: 2020E | J3: 2021E | K3: 2022E | L3: 2023E | N3: Description
B5: Non-current assets
B6: Property and equipment and construction in progress | D6: 31071898 | E6: 35858056 | F6: 33504269 | G6: 31943188 | H6: =G6-'Cash Flow Statement'!H29-'Cash Flow Statement'!H7+'Cash Flow Statement'!H31 -> 30956733 | I6: =H6-'Cash Flow Statement'!I29-'Cash Flow Statement'!I7+'Cash Flow Statement'!I31 -> 30009931 | J6: =I6-'Cash Flow Statement'!J29-'Cash Flow Statement'!J7+'Cash Flow Statement'!J31 -> 29106749 | K6: =J6-'Cash Flow Statement'!K29-'Cash Flow Statement'!K7+'Cash Flow Statement'!K31 -> 28251547 | L6: =K6-'Cash Flow Statement'!L29-'Cash Flow Statement'!L7+'Cash Flow Statement'!L31 -> 27449125
B7: Leasehold interests in land | D7: 1878794 | E7: 1782623 | F7: 1686452 | G7: 1590281 | H7: =G7-'Cash Flow Statement'!H8 -> 1494951 | I7: =H7-'Cash Flow Statement'!I8 -> 1399621 | J7: =I7-'Cash Flow Statement'!J8 -> 1304291 | K7: =J7-'Cash Flow Statement'!K8 -> 1208961 | L7: =K7-'Cash Flow Statement'!L8 -> 1113631 | N7: Seems similar to the NYSF example
B8: Goodwill | D8: 398345 | E8: 398345 | F8: 398345 | G8: 398345 | H8: =G8+'Cash Flow Statement'!H33 -> 398345 | I8: =H8+'Cash Flow Statement'!I33 -> 398345 | J8: =I8+'Cash Flow Statement'!J33 -> 398345 | K8: =J8+'Cash Flow Statement'!K33 -> 398345 | L8: =K8+'Cash Flow Statement'!L33 -> 398345 | N8: Assume no change. Wrong. Still need to link
B9: Deposits for acquisition of property and equipment | D9: 308579 | E9: 18342 | F9: 35092 | G9: 51426 | H9: =G9+'Cash Flow Statement'!H34 -> 51426 | I9: =H9+'Cash Flow Statement'!I34 -> 51426 | J9: =I9+'Cash Flow Statement'!J34 -> 51426 | K9: =J9+'Cash Flow Statement'!K34 -> 51426 | L9: =K9+'Cash Flow Statement'!L34 -> 51426 | N9: hmmm. Check with NYSF
B10: Interest Rate Swaps | D10: 5631 | E10: 0 | F10: 0 | G10: 0 | H10: =G10+'Cash Flow Statement'!H12/2 -> 0 | I10: =H10+'Cash Flow Statement'!I12/2 -> 0 | J10: =I10+'Cash Flow Statement'!J12/2 -> 0 | K10: =J10+'Cash Flow Statement'!K12/2 -> 0 | L10: =K10+'Cash Flow Statement'!L12/2 -> 0
B11: Other non-current assets | D11: 576658 | E11: 910186 | F11: 791819 | G11: 686582 | H11: =G11+'Cash Flow Statement'!H24 -> 686582 | I11: =H11+'Cash Flow Statement'!I24 -> 686582 | J11: =I11+'Cash Flow Statement'!J24 -> 686582 | K11: =J11+'Cash Flow Statement'!K24 -> 686582 | L11: =K11+'Cash Flow Statement'!L24 -> 686582 | N11: Does not contain deferred income tax
B12: Restricted cash and cash equivalents | D12: 13973 | E12: 9842 | F12: 6032 | G12: 11322 | H12: =G12+'Cash Flow Statement'!H40/2 -> 11322 | I12: =H12+'Cash Flow Statement'!I40/2 -> 11322 | J12: =I12+'Cash Flow Statement'!J40/2 -> 11322 | K12: =J12+'Cash Flow Statement'!K40/2 -> 11322 | L12: =K12+'Cash Flow Statement'!L40/2 -> 11322 | N12: reserved at the Trust to fund the WML employee ownership scheme
B13: Total Non-current assets | D13: =SUM(D6:D12) -> 34253878 | E13: =SUM(E6:E12) -> 38977394 | F13: =SUM(F6:F12) -> 36422009 | G13: =SUM(G6:G12) -> 34681144 | H13: =SUM(H6:H12) -> 33599359 | I13: =SUM(I6:I12) -> 32557227 | J13: =SUM(J6:J12) -> 31558715 | K13: =SUM(K6:K12) -> 30608183 | L13: =SUM(L6:L12) -> 29710431
B15: Current assets
B16: Inventories | D16: 179825 | E16: 338023 | F16: 331644 | G16: 312625 | H16: =G16-'Cash Flow Statement'!H18 -> 341125.63 | I16: =H16-'Cash Flow Statement'!I18 -> 375238.2 | J16: =I16-'Cash Flow Statement'!J18 -> 412762.01 | K16: =J16-'Cash Flow Statement'!K18 -> 454038.22 | L16: =K16-'Cash Flow Statement'!L18 -> 499442.04 | N16: just make sure it matches with the OWC
B17: Trade and other receivables | D17: 457728 | E17: 733001 | F17: 676669 | G17: 1135474 | H17: =G17-'Cash Flow Statement'!H19 -> 1023978.7 | I17: =H17-'Cash Flow Statement'!I19 -> 1126376.5 | J17: =I17-'Cash Flow Statement'!J19 -> 1239014.2 | K17: =J17-'Cash Flow Statement'!K19 -> 1362915.6 | L17: =K17-'Cash Flow Statement'!L19 -> 1499207.2
B18: Prepayments and other current assets | D18: 98673 | E18: 128596 | F18: 133787 | G18: 136462 | H18: =G18-'Cash Flow Statement'!H20 -> 161797.65 | I18: =H18-'Cash Flow Statement'!I20 -> 177977.42 | J18: =I18-'Cash Flow Statement'!J20 -> 195775.16 | K18: =J18-'Cash Flow Statement'!K20 -> 215352.67 | L18: =K18-'Cash Flow Statement'!L20 -> 236887.94
B19: Interest Rate Swaps | D19: 0 | E19: 8189 | F19: 0 | G19: 0 | H19: =G19+'Cash Flow Statement'!H12/2 -> 0 | I19: ='Cash Flow Statement'!I12/2 -> 0 | J19: ='Cash Flow Statement'!J12/2 -> 0 | K19: ='Cash Flow Statement'!K12/2 -> 0 | L19: ='Cash Flow Statement'!L12/2 -> 0
B20: Amounts due from related companies | D20: 560052 | E20: 156561 | F20: 181086 | G20: 282918 | H20: =G20 -> 282918 | I20: =H20 -> 282918 | J20: =I20 -> 282918 | K20: =J20 -> 282918 | L20: =K20 -> 282918 | N20: The only account not linked to the Cash Flow Statements
B21: Restricted cash and cash equivalents | D21: 1995 | E21: 12267 | F21: 10854 | G21: 6745 | H21: =G21+'Cash Flow Statement'!H40/2 -> 6745 | I21: =H21+'Cash Flow Statement'!I40/2 -> 6745 | J21: =I21+'Cash Flow Statement'!J40/2 -> 6745 | K21: =J21+'Cash Flow Statement'!K40/2 -> 6745 | L21: =K21+'Cash Flow Statement'!L40/2 -> 6745 | N21: Hmm confusing see the CF statement
B22: Cash and cash equivalents | D22: 6731356 | E22: 2591442 | F22: 5239690 | G22: 9526423 | H22: ='Cash Flow Statement'!H58 -> 12706172 | I22: ='Cash Flow Statement'!I58 -> 16579932 | J22: ='Cash Flow Statement'!J58 -> 20935342 | K22: ='Cash Flow Statement'!K58 -> 25597718 | L22: ='Cash Flow Statement'!L58 -> 30797943 | N22: Not sure if this is the right way to link. Why is cash so high
B23: Total Current Assets | D23: =SUM(D16:D22) -> 8029629 | E23: =SUM(E16:E22) -> 3968079 | F23: =SUM(F16:F22) -> 6573730 | G23: =SUM(G16:G22) -> 11400647 | H23: =SUM(H16:H22) -> 14522737 | I23: =SUM(I16:I22) -> 18549187 | J23: =SUM(J16:J22) -> 23072556 | K23: =SUM(K16:K22) -> 27919687 | L23: =SUM(L16:L22) -> 33323144
B25: Current liabilities
B26: Accounts payable | D26: 345594 | E26: 525501 | F26: 681147 | G26: 766905 | H26: =G26+'Cash Flow Statement'!H21 -> 815762.19 | I26: =H26+'Cash Flow Statement'!I21 -> 897338.41 | J26: =I26+'Cash Flow Statement'!J21 -> 987072.25 | K26: =J26+'Cash Flow Statement'!K21 -> 1085779.5 | L26: =K26+'Cash Flow Statement'!L21 -> 1194357.4
B27: Interest-bearing borrowings | D27: 0 | E27: 0 | F27: 449259 | G27: 0 | H27: =G27+'Cash Flow Statement'!H43/2 -> 0 | I27: =H27+'Cash Flow Statement'!I43/2 -> 0 | J27: =I27+'Cash Flow Statement'!J43/2 -> 0 | K27: =J27+'Cash Flow Statement'!K43/2 -> 0 | L27: =K27+'Cash Flow Statement'!L43/2 -> 0 | N27: Seems non recurring leh. See the debt schedule?
B28: Construction and retentions payables | D28: 1258868 | E28: 1167082 | F28: 456299 | G28: 393424 | H28: =G28+'Cash Flow Statement'!H22/2 -> 1054406.3 | I28: =H28+'Cash Flow Statement'!I22/2 -> 1625369.2 | J28: =I28+'Cash Flow Statement'!J22/2 -> 2253428.5 | K28: =J28+'Cash Flow Statement'!K22/2 -> 2944293.6 | L28: =K28+'Cash Flow Statement'!L22/2 -> 3704245.3 | N28: Should I combine the Accounts payables and this?
B29: Land premiums payable | D29: 124015 | E29: 0 | F29: 0 | G29: 0 | H29: =G29+'Cash Flow Statement'!H46 -> 0 | I29: =H29+'Cash Flow Statement'!I46 -> 0 | J29: =I29+'Cash Flow Statement'!J46 -> 0 | K29: =J29+'Cash Flow Statement'!K46 -> 0 | L29: =K29+'Cash Flow Statement'!L46 -> 0
B30: Other payables and accruals | D30: 4003064 | E30: 5866015 | F30: 9969074 | G30: 9703870 | H30: =G30+'Cash Flow Statement'!H22/2 -> 10364852 | I30: =H30+'Cash Flow Statement'!I22/2 -> 10935815 | J30: =I30+'Cash Flow Statement'!J22/2 -> 11563874 | K30: =J30+'Cash Flow Statement'!K22/2 -> 12254740 | L30: =K30+'Cash Flow Statement'!L22/2 -> 13014691 | N30: Accrued liabilities
B31: Amounts due to related companies | D31: 128920 | E31: 202298 | F31: 261601 | G31: 160196 | H31: =G31+'Cash Flow Statement'!H23 -> 264408.26 | I31: =H31+'Cash Flow Statement'!I23 -> 290849.08 | J31: =I31+'Cash Flow Statement'!J23 -> 319933.99 | K31: =J31+'Cash Flow Statement'!K23 -> 351927.39 | L31: =K31+'Cash Flow Statement'!L23 -> 387120.13
B32: Income tax payables | D32: 15049 | E32: 12427 | F32: 12427 | G32: 12427 | H32: =G32 -> 12427 | I32: =H32 -> 12427 | J32: =I32 -> 12427 | K32: =J32 -> 12427 | L32: =K32 -> 12427 | N32: Accrued income tax. | O32: The only account not linked to the Cash Flow Statements
B33: Other current liabilities | D33: 33277 | E33: 55763 | F33: 46492 | G33: 28109 | H33: =G33+'Cash Flow Statement'!H51 -> 28109 | I33: =H33+'Cash Flow Statement'!I51 -> 28109 | J33: =I33+'Cash Flow Statement'!J51 -> 28109 | K33: =J33+'Cash Flow Statement'!K51 -> 28109 | L33: =K33+'Cash Flow Statement'!L51 -> 28109 | N33: Need to see which CF line item drives this. OR NONE
B34: Total Current liabilities | D34: =SUM(D26:D33) -> 5908787 | E34: =SUM(E26:E33) -> 7829086 | F34: =SUM(F26:F33) -> 11876299 | G34: =SUM(G26:G33) -> 11064931 | H34: =SUM(H26:H33) -> 12539965 | I34: =SUM(I26:I33) -> 13789908 | J34: =SUM(J26:J33) -> 15164845 | K34: =SUM(K26:K33) -> 16677276 | L34: =SUM(L26:L33) -> 18340950
B36: Non-current liabilities | N36: Could this just be because they seperated all the different line items? Check with bloomberg
B37: Interest-bearing borrowings | D37: 31317919 | E37: 32169888 | F37: 27674046 | G37: 33078147 | H37: =G37+'Cash Flow Statement'!H43/2 -> 33078147 | I37: =H37+'Cash Flow Statement'!I43/2 -> 33078147 | J37: =I37+'Cash Flow Statement'!J43/2 -> 33078147 | K37: =J37+'Cash Flow Statement'!K43/2 -> 33078147 | L37: =K37+'Cash Flow Statement'!L43/2 -> 33078147 | N37: Perhaps there is more consolidation there
B38: Construction retentions payable | D38: 399986 | E38: 1244 | F38: 1862 | G38: 1293 | H38: =G38 -> 1293 | I38: =H38 -> 1293 | J38: =I38 -> 1293 | K38: =J38 -> 1293 | L38: =K38 -> 1293 | N38: The only account not linked to the Cash Flow Statements
B39: Other payables and accruals | D39: 381178 | E39: 325022 | F39: 265992 | G39: 203943 | H39: =G39 -> 203943 | I39: =H39 -> 203943 | J39: =I39 -> 203943 | K39: =J39 -> 203943 | L39: =K39 -> 203943 | N39: There is a line item that says gamign taxes payable leh | O39: The only account not linked to the Cash Flow Statements
B40: Interest rate swaps | D40: 836 | E40: 0 | F40: 0 | G40: 0 | H40: 0 | I40: 0 | J40: 0 | K40: 0 | L40: 0 | N40: The only account not linked to the Cash Flow Statements
B41: Other long-term liabilities | D41: 172522 | E41: 167169 | F41: 176782 | G41: 215018 | H41: =G41+'Cash Flow Statement'!H52 -> 215018 | I41: =H41+'Cash Flow Statement'!I52 -> 215018 | J41: =I41+'Cash Flow Statement'!J52 -> 215018 | K41: =J41+'Cash Flow Statement'!K52 -> 215018 | L41: =K41+'Cash Flow Statement'!L52 -> 215018 | N41: OR assume this is the deferred income taxes
B42: Total Non-current liabilities | D42: =SUM(D37:D41) -> 32272441 | E42: =SUM(E37:E41) -> 32663323 | F42: =SUM(F37:F41) -> 28118682 | G42: =SUM(G37:G41) -> 33498401 | H42: =SUM(H37:H41) -> 33498401 | I42: =SUM(I37:I41) -> 33498401 | J42: =SUM(J37:J41) -> 33498401 | K42: =SUM(K37:K41) -> 33498401 | L42: =SUM(L37:L41) -> 33498401
B44: Equity
B45: Issued capital | D45: 5196 | E45: 5196 | F45: 5196 | G45: 5197 | H45: =G45+'Cash Flow Statement'!H36 -> 5197 | I45: =H45+'Cash Flow Statement'!I36 -> 5197 | J45: =I45+'Cash Flow Statement'!J36 -> 5197 | K45: =J45+'Cash Flow Statement'!K36 -> 5197 | L45: =K45+'Cash Flow Statement'!L36 -> 5197 | N45: Assume no change moving forward
B46: Share premium account | D46: 161746 | E46: 161746 | F46: 267315 | G46: 385288 | H46: =G46 -> 385288 | I46: =H46 -> 385288 | J46: =I46 -> 385288 | K46: =J46 -> 385288 | L46: =K46 -> 385288 | N46: Assume no change moving forward
...

Sheet Cash Flow Statement
D2: Historical | H2: Projection Period
B3: Year ended 31st December | D3: 2015A | E3: 2016A | F3: 2017A | G3: 2018A | H3: 2019E | I3: 2020E | J3: 2021E | K3: 2022E | L3: 2023E | N3: Description
B5: Cash flows from operating activities
B6: Profit before tax | D6: 2416860 | E6: 1447959 | F6: 3712921 | G6: 6257817 | H6: ='Income Statement'!H36 -> 5722847.3 | I6: ='Income Statement'!I36 -> 6444350.5 | J6: ='Income Statement'!J36 -> 7239650.1 | K6: ='Income Statement'!K36 -> 8114359.6 | L6: ='Income Statement'!L36 -> 9076340.7 | N6: linked
B7: Depreciation of property and equipment | D7: 905043 | E7: 1496067 | F7: 2680647 | G7: 2631084 | H7: =Depreciation!H66 -> 2728495.2 | I7: =Depreciation!I66 -> 2863045.3 | J7: =Depreciation!J66 -> 3011050.5 | K7: =Depreciation!K66 -> 3173856.2 | L7: =Depreciation!L66 -> 3352942.4 | N7: Depreciaiton Schedule
B8: Amortization of leasehold interests in land | D8: 95330 | E8: 95330 | F8: 95330 | G8: 95330 | H8: =G8 -> 95330 | I8: =H8 -> 95330 | J8: =I8 -> 95330 | K8: =J8 -> 95330 | L8: =K8 -> 95330 | N8: Why is this different from the Balance Sheet Change
B9: Property charges and other | D9: 11599 | E9: 24814 | F9: 133464 | G9: 153916 | H9: =AVERAGE(F9:G9) -> 143690 | I9: =H9 -> 143690 | J9: =I9 -> 143690 | K9: =J9 -> 143690 | L9: =K9 -> 143690 | N9: Loss on Disposals. Hardcoded figure assumed here
B10: Provision/(reversal of provision) for doubtful accounts, net | D10: 63419 | E10: 8486 | F10: -56090 | G10: 23140 | H10: 0 | I10: 0 | J10: 0 | K10: 0 | L10: 0 | N10: Assumed to be zero??
B11: Expense of share-based payments | D11: 128031 | E11: 117894 | F11: 111061 | G11: 106303 | H11: =AVERAGE(D11:G11) -> 115822.25 | I11: =H11 -> 115822.25 | J11: =I11 -> 115822.25 | K11: =J11 -> 115822.25 | L11: =K11 -> 115822.25 | N11: Averaged used
B12: Changes in fair value of interest rate swaps | D12: 41078 | E12: -3359 | F12: 8202 | G12: 0 | H12: 0 | I12: 0 | J12: 0 | K12: 0 | L12: 0 | N12: No more interest rate swaps are being carried
B13: Finance revenues | D13: -31199 | E13: -24174 | F13: -14964 | G13: -102592 | H13: 0 | I13: 0 | J13: 0 | K13: 0 | L13: 0 | N13: Actual Statements Below <> debt schedule
B14: Finance costs | D14: 595628 | E14: 838055 | F14: 1269784 | G14: 1495646 | H14: 0 | I14: 0 | J14: 0 | K14: 0 | L14: 0 | N14: Actual Statements Below <> debt schedule
B15: Loss on extinguishment of debt | D15: 22545 | E15: 0 | F15: 223928 | G15: 7452 | H15: ='Income Statement'!H33 -> 0 | I15: ='Income Statement'!I33 -> 0 | J15: ='Income Statement'!J33 -> 0 | K15: ='Income Statement'!K33 -> 0 | L15: ='Income Statement'!L33 -> 0 | N15: Seems very volatile. Assume no more
B16: Net foreign currency differences | D16: -12853 | E16: 6051 | F16: 169773 | G16: 40132 | H16: ='Income Statement'!H32 -> 0 | I16: ='Income Statement'!I32 -> 0 | J16: ='Income Statement'!J32 -> 0 | K16: ='Income Statement'!K32 -> 0 | L16: ='Income Statement'!L32 -> 0 | N16: FX. In the IS. Assume 0 moving forward
B17: Working capital adjustments:
B18: Decrease in inventories | D18: 6093 | E18: -158194 | F18: 6379 | G18: 19019 | H18: ='Operating Working Capital'!H6-'Operating Working Capital'!I6 -> -28500.632 | I18: ='Operating Working Capital'!I6-'Operating Working Capital'!J6 -> -34112.563 | J18: ='Operating Working Capital'!J6-'Operating Working Capital'!K6 -> -37523.82 | K18: ='Operating Working Capital'!K6-'Operating Working Capital'!L6 -> -41276.201 | L18: ='Operating Working Capital'!L6-'Operating Working Capital'!M6 -> -45403.822
B19: (Increase)/decrease in trade and other receivables | D19: 46974 | E19: -286498 | F19: 112470 | G19: -469197 | H19: ='Operating Working Capital'!H8-'Operating Working Capital'!I8 -> 111495.32 | I19: ='Operating Working Capital'!I8-'Operating Working Capital'!J8 -> -102397.87 | J19: ='Operating Working Capital'!J8-'Operating Working Capital'!K8 -> -112637.65 | K19: ='Operating Working Capital'!K8-'Operating Working Capital'!L8 -> -123901.42 | L19: ='Operating Working Capital'!L8-'Operating Working Capital'!M8 -> -136291.56
B20: Decrease in prepayments and other assets | D20: -151440 | E20: -140588 | F20: 54502 | G20: 57910 | H20: ='Operating Working Capital'!H10-'Operating Working Capital'!I10 -> -25335.652 | I20: ='Operating Working Capital'!I10-'Operating Working Capital'!J10 -> -16179.765 | J20: ='Operating Working Capital'!J10-'Operating Working Capital'!K10 -> -17797.742 | K20: ='Operating Working Capital'!K10-'Operating Working Capital'!L10 -> -19577.516 | L20: ='Operating Working Capital'!L10-'Operating Working Capital'!M10 -> -21535.267
B21: Increase in accounts payable | D21: -445905 | E21: 236846 | F21: 163488 | G21: 78463 | H21: ='Operating Working Capital'!I16-'Operating Working Capital'!H16 -> 48857.192 | I21: ='Operating Working Capital'!J16-'Operating Working Capital'!I16 -> 81576.219 | J21: ='Operating Working Capital'!K16-'Operating Working Capital'!J16 -> 89733.841 | K21: ='Operating Working Capital'!L16-'Operating Working Capital'!K16 -> 98707.225 | L21: ='Operating Working Capital'!M16-'Operating Working Capital'!L16 -> 108577.95
B22: (Decrease)/increase in other payables, accruals and other liabilities | D22: -988717 | E22: 1782889 | F22: 3970601 | G22: -459641 | H22: ='Operating Working Capital'!I18-'Operating Working Capital'!H18+'Operating Working Capital'!I20-'Operating Working Capital'!H20 -> 1321964.6 | I22: ='Operating Working Capital'!J18-'Operating Working Capital'!I18+'Operating Working Capital'!J20-'Operating Working Capital'!I20 -> 1141925.9 | J22: ='Operating Working Capital'!K18-'Operating Working Capital'!J18+'Operating Working Capital'!K20-'Operating Working Capital'!J20 -> 1256118.4 | K22: ='Operating Working Capital'!L18-'Operating Working Capital'!K18+'Operating Working Capital'!L20-'Operating Working Capital'!K20 -> 1381730.3 | L22: ='Operating Working Capital'!M18-'Operating Working Capital'!L18+'Operating Working Capital'!M20-'Operating Working Capital'!L20 -> 1519903.3
B23: (Decrease)/increase in net amounts due to related companies | D23: -207115 | E23: 416683 | F23: 38182 | G23: -206728 | H23: ='Operating Working Capital'!I22-'Operating Working Capital'!H22 -> 104212.26 | I23: ='Operating Working Capital'!J22-'Operating Working Capital'!I22 -> 26440.826 | J23: ='Operating Working Capital'!K22-'Operating Working Capital'!J22 -> 29084.908 | K23: ='Operating Working Capital'!L22-'Operating Working Capital'!K22 -> 31993.399 | L23: ='Operating Working Capital'!M22-'Operating Working Capital'!L22 -> 35192.739
B24: Other Current Assets | D24: 0 | E24: 0 | F24: 0 | G24: 0 | H24: 0 | I24: 0 | J24: 0 | K24: 0 | L24: 0
B25: Income taxes paid | D25: -15049 | E25: -15049 | F25: -12427 | G25: -12427 | H25: =-'Income Statement'!H38 -> -12427 | I25: =-'Income Statement'!I38 -> -12427 | J25: =-'Income Statement'!J38 -> -12427 | K25: =-'Income Statement'!K38 -> -973723.15 | L25: =-'Income Statement'!L38 -> -1089160.9
B26: Total cash flows from operating activities | D26: =SUM(D6:D16)+SUM(D18:D25) -> 2480322 | E26: =SUM(E6:E16)+SUM(E18:E25) -> 5843212 | F26: =SUM(F6:F16)+SUM(F18:F25) -> 12667251 | G26: =SUM(G6:G16)+SUM(G18:G25) -> 9715627 | H26: =SUM(H6:H16)+SUM(H18:H25) -> 10326451 | I26: =SUM(I6:I16)+SUM(I18:I25) -> 10747064 | J26: =SUM(J6:J16)+SUM(J18:J25) -> 11800094 | K26: =SUM(K6:K16)+SUM(K18:K25) -> 11997011 | L26: =SUM(L6:L16)+SUM(L18:L25) -> 13155408 | N26: Why was 2017 Cash Flow generated higher?
B28: Cash flows from investing activities
B29: Purchases of property and equipment and other assets, net of…^ | D29: -12710134 | E29: -6789643 | F29: -1261136 | G29: -1188837 | H29: =-H30*'Income Statement'!H10 -> -1742039.8 | I29: =-I30*'Income Statement'!I10 -> -1916243.7 | J29: =-J30*'Income Statement'!J10 -> -2107868.1 | K29: =-K30*'Income Statement'!K10 -> -2318654.9 | L29: =-L30*'Income Statement'!L10 -> -2550520.4
B30: CAPEX as % of revenue | D30: =-D29/'Income Statement'!D10 -> 0.66557871 | E30: =-E29/'Income Statement'!E10 -> 0.30723092 | F30: =-F29/'Income Statement'!F10 -> 0.037057448 | G30: =-G29/'Income Statement'!G10 -> 0.030027344 | H30: 0.04 | I30: 0.04 | J30: 0.04 | K30: 0.04 | L30: 0.04 | N30: Tough to say
B31: Proceeds from sale of property and equipment and other assets | D31: 8259 | E31: 5691 | F31: 6206 | G31: 8683 | H31: 0 | I31: 0 | J31: 0 | K31: 0 | L31: 0 | N31: PPE item. Assume is 0 as per NYSF.
B32: Proceeds from insurance claims | D32: 0 | E32: 0 | F32: 78036 | G32: 0 | H32: 0 | I32: 0 | J32: 0 | K32: 0 | L32: 0
B33: Goodwill | D33: 0 | E33: 0 | F33: 0 | G33: 0 | H33: 0 | I33: 0 | J33: 0 | K33: 0 | L33: 0 | N33: Added on my own
B34: Deposits for acquisition of property and equipment | D34: 0 | E34: 0 | F34: 0 | G34: 0 | H34: 0 | I34: 0 | J34: 0 | K34: 0 | L34: 0 | N34: Added on my own
B35: Interest received | D35: 33680 | E35: 26899 | F35: 14916 | G35: 89851 | H35: 0 | I35: 0 | J35: 0 | K35: 0 | L35: 0 | N35: <> debt schedule no balancing needs to be done here
B36: Share buybacks | D36: 0 | E36: 0 | F36: 0 | G36: 0 | H36: 0 | I36: 0 | J36: 0 | K36: 0 | L36: 0 | N36: Might be in the wrong column
B37: Total cash flows from investing activities | D37: =D29+SUM(D31:D35) -> -12668195 | E37: =E29+SUM(E31:E35) -> -6757053 | F37: =F29+SUM(F31:F35) -> -1161978 | G37: =G29+SUM(G31:G35) -> -1090303 | H37: =H29+SUM(H31:H35) -> -1742039.8 | I37: =I29+SUM(I31:I35) -> -1916243.7 | J37: =J29+SUM(J31:J35) -> -2107868.1 | K37: =K29+SUM(K31:K35) -> -2318654.9 | L37: =L29+SUM(L31:L35) -> -2550520.4
B39: Cash flows from financing activities
B40: (Increase)/decrease in restricted cash and cash equivalents | D40: -8388 | E40: -6141 | F40: 5223 | G40: -1181 | H40: 0 | I40: 0 | J40: 0 | K40: 0 | L40: 0 | N40: Just assume 0 first
B41: Proceeds from borrowings | D41: 26519638 | E41: 3883272 | F41: 11951431 | G41: 4889494 | N41: I think this and below can be summed
B42: Repayment of borrowings | D42: -13710435 | E42: -3110156 | F42: -16069224 | G42: 0
B43: Total Borrowings | D43: =SUM(D41:D42) -> 12809203 | E43: =SUM(E41:E42) -> 773116 | F43: =SUM(F41:F42) -> -4117793 | G43: =SUM(G41:G42) -> 4889494 | H43: 0 | I43: 0 | J43: 0 | K43: 0 | L43: 0 | N43: Need to consider debt schedule
B44: Payments of debt financing costs | D44: -465794 | E44: -18503 | F44: -396322 | G44: -69573 | H44: =D44 -> -465794 | I44: =E44 -> -18503 | J44: =F44 -> -396322 | K44: =G44 -> -69573 | L44: =H44 -> -465794 | N44: Looks like a cycle
...

Sheet Depreciation
D2: Historical | H2: Projection Period
B3: Year ended 31st December | D3: 2015A | E3: 2016A | F3: 2017A | G3: 2018A | H3: 2019E | I3: 2020E | J3: 2021E | K3: 2022E | L3: 2023E | N3: Page 121 and 155
B4: Revenue | D4: ='Income Statement'!D10 -> 19096365 | E4: ='Income Statement'!E10 -> 22099478 | F4: ='Income Statement'!F10 -> 34031917 | G4: ='Income Statement'!G10 -> 39591813 | H4: ='Income Statement'!H10 -> 43550994 | I4: ='Income Statement'!I10 -> 47906094 | J4: ='Income Statement'!J10 -> 52696703 | K4: ='Income Statement'!K10 -> 57966373 | L4: ='Income Statement'!L10 -> 63763011
B5: Capital Expenditures | D5: =-'Cash Flow Statement'!D29 -> 12710134 | E5: =-'Cash Flow Statement'!E29 -> 6789643 | F5: =-'Cash Flow Statement'!F29 -> 1261136 | G5: =-'Cash Flow Statement'!G29 -> 1188837 | H5: =SUM(H16:H19) -> 1372885.8 | I5: =SUM(I16:I19) -> 1510174.4 | J5: =SUM(J16:J19) -> 1661191.8 | K5: =SUM(K16:K19) -> 1827311 | L5: =SUM(L16:L19) -> 2010042.1 | N5: Why is depre so much higher than capex
B6: Capital Expenditures as a % of Revenue | D6: =D5/D4 -> 0.66557871 | E6: =E5/E4 -> 0.30723092 | F6: =F5/F4 -> 0.037057448 | G6: =G5/G4 -> 0.030027344 | H6: =H5/H4 -> 0.031523638 | I6: =I5/I4 -> 0.031523638 | J6: =J5/J4 -> 0.031523638 | K6: =K5/K4 -> 0.031523638 | L6: =L5/L4 -> 0.031523638 | N6: Looks okay
B8: Gross PPE
B9: Buildings and Improvements | D9: 9611197 | E9: 10310836 | F9: 38243176 | G9: 38215555 | H9: =G9+H16 -> 39090724 | I9: =H9+I16 -> 40053409 | J9: =I9+J16 -> 41112364 | K9: =J9+K16 -> 42277213 | L9: =K9+L16 -> 43558548
B10: Furniture Fixtures and Equipment | D10: 2570255 | E10: 2835083 | F10: 5623529 | G10: 5788545 | H10: =G10+H17 -> 6134207.3 | I10: =H10+I17 -> 6514435.8 | J10: =I10+J17 -> 6932687.2 | K10: =J10+K17 -> 7392763.6 | L10: =K10+L17 -> 7898847.8
B11: Leasehold Improvements | D11: 76446 | E11: 81545 | F11: 27352 | G11: 27100 | H11: =G11+H18 -> 31612.036 | I11: =H11+I18 -> 36575.276 | J11: =I11+J18 -> 42034.84 | K11: =J11+K18 -> 48040.36 | L11: =K11+L18 -> 54646.432
B12: Construction in Progress | D12: 12890783 | E12: 24621753 | F12: 62871 | G12: 183720 | H12: =G12+H19 -> 331262.67 | I12: =H12+I19 -> 493559.6 | J12: =I12+J19 -> 672086.23 | K12: =J12+K19 -> 868465.52 | L12: =K12+L19 -> 1084482.7
B13: Total Gross PPE | D13: =SUM(D9:D12) -> 25148681 | E13: =SUM(E9:E12) -> 37849217 | F13: =SUM(F9:F12) -> 43956928 | G13: =SUM(G9:G12) -> 44214920
B15: CAPEX by segment
B16: Buildings and Improvements | D16: =21039+712475 -> 733514 | E16: =2844954+25156182 -> 28001136 | F16: =87324+149429 -> 236753 | G16: =251751+543857 -> 795608 | H16: =H25*H4 -> 875168.8 | I16: =I25*I4 -> 962685.68 | J16: =J25*J4 -> 1058954.2 | K16: =K25*K4 -> 1164849.7 | L16: =L25*L4 -> 1281334.6
B17: Furniture Fixtures and Equipment | D17: =142938+189177 -> 332115 | E17: =354286+2513448 -> 2867734 | F17: =133224+114460 -> 247684 | G17: =199297+141031 -> 340328 | H17: =H26*H4 -> 345662.28 | I17: =I26*I4 -> 380228.51 | J17: =J26*J4 -> 418251.36 | K17: =K26*K4 -> 460076.5 | L17: =L26*L4 -> 506084.15
B18: Leasehold Improvements | D18: =4169+930 -> 5099 | E18: =1051 -> 1051 | F18: =893+392 -> 1285 | G18: =2458 -> 2458 | H18: =H27*H4 -> 4512.0362 | I18: =I27*I4 -> 4963.2398 | J18: =J27*J4 -> 5459.5638 | K18: =K27*K4 -> 6005.5201 | L18: =L27*L4 -> 6606.0721
B19: Construction in Progress (reduced) | D19: =12637222-902582 -> 11734640 | E19: =3116917-27670681 -> -24553764 | F19: =392842-264281 -> 128561 | G19: =803583-684888 -> 118695 | H19: =H28*H4 -> 147542.67 | I19: =I28*I4 -> 162296.93 | J19: =J28*J4 -> 178526.63 | K19: =K28*K4 -> 196379.29 | L19: =L28*L4 -> 216017.22
B20: Sum of CAPEX | D20: =SUM(D16:D19) -> 12805368 | E20: =SUM(E16:E19) -> 6316157 | F20: =SUM(F16:F19) -> 614283 | G20: =SUM(G16:G19) -> 1257089
B21: Reported CAPEX | D21: 12710134 | E21: 6789643 | F21: 1261136 | G21: 1188837
B22: (note, adjustements to project costs and abandonments/disposals are ignored here
B24: Capex % of Revenue
B25: Buildings and Improvements | D25: =D16/D4 -> 0.038411185 | E25: =E16/E4 -> 1.2670497 | F25: =F16/F4 -> 0.0069567929 | G25: =G16/G4 -> 0.020095266 | H25: =G25 -> 0.020095266 | I25: =H25 -> 0.020095266 | J25: =I25 -> 0.020095266 | K25: =J25 -> 0.020095266 | L25: =K25 -> 0.020095266
B26: Furniture Fixtures and Equipment | D26: =D17/D4 -> 0.01739153 | E26: =E17/E4 -> 0.12976478 | F26: =F17/F4 -> 0.0072779914 | G26: =G17/G4 -> 0.0085959186 | H26: =AVERAGE(F26:G26) -> 0.007936955 | I26: =H26 -> 0.007936955 | J26: =I26 -> 0.007936955 | K26: =J26 -> 0.007936955 | L26: =K26 -> 0.007936955
B27: Leasehold Improvements | D27: =D18/D4 -> 0.00026701417 | E27: =E18/E4 -> 4.7557684e-05 | F27: =F18/F4 -> 3.7758672e-05 | G27: =G18/G4 -> 6.2083542e-05 | H27: =AVERAGE(D27:G27) -> 0.00010360352 | I27: =H27 -> 0.00010360352 | J27: =I27 -> 0.00010360352 | K27: =J27 -> 0.00010360352 | L27: =K27 -> 0.00010360352
B28: Construction in Progress | D28: =D19/D4 -> 0.614496 | E28: =E19/E4 -> -1.1110563 | F28: =F19/F4 -> 0.0037776597 | G28: =G19/G4 -> 0.0029979683 | H28: =AVERAGE(F28:G28) -> 0.003387814 | I28: =H28 -> 0.003387814 | J28: =I28 -> 0.003387814 | K28: =J28 -> 0.003387814 | L28: =K28 -> 0.003387814
B30: Depriciable Years
B31: Buildings and Improvements | D31: 10 to 45 years | E31: 25
B32: Furniture Fixtures and Equipment | D32: 3 to 5 years | E32: 5
B33: Leasehold Improvements | D33: 1 to 5 years | E33: 5
B34: Construction in Progress | D34: ? | E34: 5
B35: [Straight-line basis]
B37: Depreciation Schedule
B38: Buildings and Improvements
B39: Original Balance | H39: =G9/E31 -> 1528622.2 | I39: =H39 -> 1528622.2 | J39: =I39 -> 1528622.2 | K39: =J39 -> 1528622.2 | L39: =K39 -> 1528622.2
B40: Year 1 | I40: =H16/E31 -> 35006.752 | J40: =I40 -> 35006.752 | K40: =J40 -> 35006.752 | L40: =K40 -> 35006.752
B41: Year 2 | J41: =I16/E31 -> 38507.427 | K41: =J41 -> 38507.427 | L41: =K41 -> 38507.427
B42: Year 3 | K42: =J16/E31 -> 42358.17 | L42: =K42 -> 42358.17
B43: Year 4 | L43: =K16/E31 -> 46593.987
B45: Furniture Fixtures and Equipment
B46: Original Balance | H46: =G10/E32 -> 1157709 | I46: =H46 -> 1157709 | J46: =I46 -> 1157709 | K46: =J46 -> 1157709 | L46: =K46 -> 1157709
B47: Year 1 | I47: =H17/E32 -> 69132.456 | J47: =I47 -> 69132.456 | K47: =J47 -> 69132.456 | L47: =K47 -> 69132.456
...

Sheet Operating Working Capital
E2: Historical | I2: Projection Period
B3: Year ended 31st December | E3: 2015A | F3: 2016A | G3: 2017A | H3: 2018A | I3: 2019E | J3: 2020E | K3: 2021E | L3: 2022E | M3: 2023E
B5: Current assets | O5: DRIVERS
B6: 1 | C6: Inventories | E6: ='Balance Sheet'!D16 -> 179825 | F6: ='Balance Sheet'!E16 -> 338023 | G6: ='Balance Sheet'!F16 -> 331644 | H6: ='Balance Sheet'!G16 -> 312625 | I6: =I7*'Income Statement'!H24/360 -> 341125.63 | J6: =J7*'Income Statement'!I24/360 -> 375238.2 | K6: =K7*'Income Statement'!J24/360 -> 412762.01 | L6: =L7*'Income Statement'!K24/360 -> 454038.22 | M6: =M7*'Income Statement'!L24/360 -> 499442.04 | O6: COGS | P6: at 24, inventory days seem too high.
D7: Inventory turnover days | F7: =AVERAGE(E6:F6)*360/'Income Statement'!E24 -> 21.892881 | G7: =AVERAGE(F6:G6)*360/'Income Statement'!F24 -> 27.367659 | H7: =AVERAGE(G6:H6)*360/'Income Statement'!G24 -> 22.746747 | I7: 21 | J7: =I7 -> 21 | K7: =J7 -> 21 | L7: =K7 -> 21 | M7: =L7 -> 21
B8: 2 | C8: Trade and other receivables | E8: ='Balance Sheet'!D17 -> 457728 | F8: ='Balance Sheet'!E17 -> 733001 | G8: ='Balance Sheet'!F17 -> 676669 | H8: ='Balance Sheet'!G17 -> 1135474 | I8: =I9*'Income Statement'!H10/360 -> 1023978.7 | J8: =J9*'Income Statement'!I10/360 -> 1126376.5 | K8: =K9*'Income Statement'!J10/360 -> 1239014.2 | L8: =L9*'Income Statement'!K10/360 -> 1362915.6 | M8: =M9*'Income Statement'!L10/360 -> 1499207.2 | O8: Income | P8: seems fine
D9: Days receivable | F9: =AVERAGE(E8:F8)*360/'Income Statement'!E10 -> 9.6984743 | G9: =AVERAGE(F8:G8)*360/'Income Statement'!F10 -> 7.4559597 | H9: =AVERAGE(G8:H8)*360/'Income Statement'!G10 -> 8.2387169 | I9: =AVERAGE(F9:H9) -> 8.4643836 | J9: =I9 -> 8.4643836 | K9: =J9 -> 8.4643836 | L9: =K9 -> 8.4643836 | M9: =L9 -> 8.4643836
B10: 3 | C10: Prepayments and other current assets | E10: ='Balance Sheet'!D18 -> 98673 | F10: ='Balance Sheet'!E18 -> 128596 | G10: ='Balance Sheet'!F18 -> 133787 | H10: ='Balance Sheet'!G18 -> 136462 | I10: =I11*'Income Statement'!H22/360 -> 161797.65 | J10: =J11*'Income Statement'!I22/360 -> 177977.42 | K10: =K11*'Income Statement'!J22/360 -> 195775.16 | L10: =L11*'Income Statement'!K22/360 -> 215352.67 | M10: =M11*'Income Statement'!L22/360 -> 236887.94 | O10: SG&A | P10: seems fine
D11: Days receivable | F11: =AVERAGE(E10:F10)*360/'Income Statement'!E22 -> 2.9249801 | G11: =AVERAGE(F10:G10)*360/'Income Statement'!F22 -> 2.1985534 | H11: =AVERAGE(G10:H10)*360/'Income Statement'!G22 -> 2.021082 | I11: =AVERAGE(G11:H11) -> 2.1098177 | J11: =I11 -> 2.1098177 | K11: =J11 -> 2.1098177 | L11: =K11 -> 2.1098177 | M11: =L11 -> 2.1098177
B12: 6 | C12: Amounts due from related companies | E12: ='Balance Sheet'!D20 -> 560052 | F12: ='Balance Sheet'!E20 -> 156561 | G12: ='Balance Sheet'!F20 -> 181086 | H12: ='Balance Sheet'!G20 -> 282918 | I12: =I13*'Income Statement'!H10/360 -> 235623.68 | J12: =J13*'Income Statement'!I10/360 -> 259186.05 | K12: =K13*'Income Statement'!J10/360 -> 285104.66 | L12: =L13*'Income Statement'!K10/360 -> 313615.12 | M12: =M13*'Income Statement'!L10/360 -> 344976.64 | O12: Income | P12: seems fine
D13: Days receivable | F13: =AVERAGE(E12:F12)*360/'Income Statement'!E10 -> 5.8368048 | G13: =AVERAGE(F12:G12)*360/'Income Statement'!F10 -> 1.7858665 | H13: =AVERAGE(G12:H12)*360/'Income Statement'!G10 -> 2.1095452 | I13: =AVERAGE(G13:H13) -> 1.9477059 | J13: =I13 -> 1.9477059 | K13: =J13 -> 1.9477059 | L13: =K13 -> 1.9477059 | M13: =L13 -> 1.9477059
B15: Current liabilities
B16: 4 | C16: Accounts payable | E16: ='Balance Sheet'!D26 -> 345594 | F16: ='Balance Sheet'!E26 -> 525501 | G16: ='Balance Sheet'!F26 -> 681147 | H16: ='Balance Sheet'!G26 -> 766905 | I16: =I17*'Income Statement'!H24/360 -> 815762.19 | J16: =J17*'Income Statement'!I24/360 -> 897338.41 | K16: =K17*'Income Statement'!J24/360 -> 987072.25 | L16: =L17*'Income Statement'!K24/360 -> 1085779.5 | M16: =M17*'Income Statement'!L24/360 -> 1194357.4 | O16: COGS
D17: Days payable | F17: =AVERAGE(E16:F16)*360/'Income Statement'!E24 -> 36.826982 | G17: =AVERAGE(F16:G16)*360/'Income Statement'!F24 -> 49.312764 | H17: =AVERAGE(G16:H16)*360/'Income Statement'!G24 -> 51.125341 | I17: =AVERAGE(G17:H17) -> 50.219053 | J17: =I17 -> 50.219053 | K17: =J17 -> 50.219053 | L17: =K17 -> 50.219053 | M17: =L17 -> 50.219053
B18: 5 | C18: Construction and retentions payables | E18: ='Balance Sheet'!D28 -> 1258868 | F18: ='Balance Sheet'!E28 -> 1167082 | G18: ='Balance Sheet'!F28 -> 456299 | H18: ='Balance Sheet'!G28 -> 393424 | I18: =I19*'Income Statement'!H22/360 -> 690191.79 | J18: =J19*'Income Statement'!I22/360 -> 759210.97 | K18: =K19*'Income Statement'!J22/360 -> 835132.07 | L18: =L19*'Income Statement'!K22/360 -> 918645.28 | M18: =M19*'Income Statement'!L22/360 -> 1010509.8 | O18: SG&A | P18: at 10, value seems too high
D19: Days payable | F19: =AVERAGE(E18:F18)*360/'Income Statement'!E22 -> 31.222276 | G19: =AVERAGE(F18:G18)*360/'Income Statement'!F22 -> 13.602596 | H19: =AVERAGE(G18:H18)*360/'Income Statement'!G22 -> 6.3547316 | I19: 9 | J19: =I19 -> 9 | K19: =J19 -> 9 | L19: =K19 -> 9 | M19: =L19 -> 9
B20: 5 | C20: Other payables and accruals | E20: ='Balance Sheet'!D30 -> 4003064 | F20: ='Balance Sheet'!E30 -> 5866015 | G20: ='Balance Sheet'!F30 -> 9969074 | H20: ='Balance Sheet'!G30 -> 9703870 | I20: =I21*'Income Statement'!H22/360 -> 10729067 | J20: =J21*'Income Statement'!I22/360 -> 11801974 | K20: =K21*'Income Statement'!J22/360 -> 12982171 | L20: =L21*'Income Statement'!K22/360 -> 14280388 | M20: =M21*'Income Statement'!L22/360 -> 15708427 | O20: SG&A | P20: the days seem too high. COGS even worse.
D21: Days payable | F21: =AVERAGE(E20:F20)*360/'Income Statement'!E22 -> 127.01626 | G21: =AVERAGE(F20:G20)*360/'Income Statement'!F22 -> 132.685 | H21: =AVERAGE(G20:H20)*360/'Income Statement'!G22 -> 147.12592 | I21: =AVERAGE(G21:H21) -> 139.90546 | J21: =I21 -> 139.90546 | K21: =J21 -> 139.90546 | L21: =K21 -> 139.90546 | M21: =L21 -> 139.90546
B22: 6 | C22: Amounts due to related companies | E22: ='Balance Sheet'!D31 -> 128920 | F22: ='Balance Sheet'!E31 -> 202298 | G22: ='Balance Sheet'!F31 -> 261601 | H22: ='Balance Sheet'!G31 -> 160196 | I22: =I23*'Income Statement'!H10/360 -> 264408.26 | J22: =J23*'Income Statement'!I10/360 -> 290849.08 | K22: =K23*'Income Statement'!J10/360 -> 319933.99 | L22: =L23*'Income Statement'!K10/360 -> 351927.39 | M22: =M23*'Income Statement'!L10/360 -> 387120.13 | O22: Income | P22: seem too high as well
D23: Days payable | F23: =AVERAGE(E22:F22)*360/'Income Statement'!E10 -> 2.6977669 | G23: =AVERAGE(F22:G22)*360/'Income Statement'!F10 -> 2.4536326 | H23: =AVERAGE(G22:H22)*360/'Income Statement'!G10 -> 1.9176556 | I23: =AVERAGE(G23:H23) -> 2.1856441 | J23: =I23 -> 2.1856441 | K23: =J23 -> 2.1856441 | L23: =K23 -> 2.1856441 | M23: =L23 -> 2.1856441
B24: 7 | C24: Income tax payables | E24: ='Balance Sheet'!D32 -> 15049 | F24: ='Balance Sheet'!E32 -> 12427 | G24: ='Balance Sheet'!F32 -> 12427 | H24: ='Balance Sheet'!G32 -> 12427 | I24: =H24 -> 12427 | J24: =I24 -> 12427 | K24: =J24 -> 12427 | L24: =K24 -> 12427 | M24: =L24 -> 12427 | O24: Income Taxes Paid
D25: Days payable | F25: =AVERAGE(E24:F24)*360/'Income Statement'!E38 -> 397.97859 | G25: =AVERAGE(F24:G24)*360/'Income Statement'!F38 -> 360 | H25: =AVERAGE(G24:H24)*360/'Income Statement'!G38 -> 360 | O25: This will be a hard assumption moving forward
O26: Assume 50%
B27: Total operating working capital | E27: =SUM('Cash Flow Statement'!D18:D25) -> -1755159 | F27: =SUM('Cash Flow Statement'!E18:E25) -> 1836089 | G27: =SUM('Cash Flow Statement'!F18:F25) -> 4333195 | H27: =H6+H8+H10+H12-H16-H18-H20-H22 -> -9156916 | I27: =I6+I8+I10+I12-I16-I18-I20-I22-I24 -> -10749330 | J27: =J6+J8+J10+J12-J16-J18-J20-J22-J24 -> -11823021 | K27: =K6+K8+K10+K12-K16-K18-K20-K22-K24 -> -13004080 | L27: =L6+L8+L10+L12-L16-L18-L20-L22-L24 -> -14303245 | M27: =M6+M8+M10+M12-M16-M18-M20-M22-M24 -> -15732327
B28: Change in total operating working capital | I28: =I27-H27 -> -1592414.4 | J28: =J27-I27 -> -1073690.3 | K28: =K27-J27 -> -1181059.4 | L28: =L27-K27 -> -1299165.3 | M28: =M27-L27 -> -1429081.8
B29: Match? (Y/N)
I30: abnormally

Sheet Debt Schedule
E2: Historical | I2: Projection Period
B3: Year ended 31st December | E3: 2015A | F3: 2016A | G3: 2017A | H3: 2018A | I3: 2019E | J3: 2020E | K3: 2021E | L3: 2022E | M3: 2023E | O3: Comments
B5: Cash available to pay down debt
C6: Cash at beginning of year | F6: =E32 -> 6731356 | G6: =F32 -> 2591442 | H6: =G32 -> 5239690 | I6: =H32 -> 9526423 | J6: =I32 -> 12706172 | K6: =J32 -> 16579932 | L6: =K32 -> 20935342 | M6: =L32 -> 25597718
C7: Cash flow before debt paydown | I7: ='Cash Flow Statement'!H63 -> 3179749.4 | J7: ='Cash Flow Statement'!I63 -> 3873759.3 | K7: ='Cash Flow Statement'!J63 -> 4355410 | L7: ='Cash Flow Statement'!K63 -> 4662376 | M7: ='Cash Flow Statement'!L63 -> 5200225.7
C8: Minimum cash cushion | I8: -1000000 | J8: -1000000 | K8: -1000000 | L8: -1000000 | M8: -1000000
C9: Total cash available to pay down debt | I9: =SUM(I6:I8) -> 11706172 | J9: =SUM(J6:J8) -> 15579932 | K9: =SUM(K6:K8) -> 19935342 | L9: =SUM(L6:L8) -> 24597718 | M9: =SUM(M6:M8) -> 29797943
B12: Current Interest-bearing borrowings
C13: Current Interest-bearing borrowings (beginning of year) | I13: 0 | J13: 0 | K13: 0 | L13: 0 | M13: 0
C14: Mandatory issuances / (retirements) | I14: 0 | J14: 0 | K14: 0 | L14: 0 | M14: 0 | O14: Assume no short term debt will be borrowed
C15: Non-mandatory issuances / (retirements) | H15: 0 | I15: 0 | J15: 0 | K15: 0 | L15: 0 | M15: 0 | O15: Might happen long term when the interest rate drops
C16: Current Interest-bearing borrowings (end of year) | H16: 0 | I16: 0 | J16: 0 | K16: 0 | L16: 0 | M16: 0
C17: Short term interest expense | I17: 0 | J17: 0 | K17: 0 | L17: 0 | M17: 0
D18: Short term interest rate | I18: 0 | J18: 0 | K18: 0 | L18: 0 | M18: 0
B20: Non-Current Interest-bearing borrowings
C21: Non-Current Interest-bearing borrowings (beginning of year) | I21: =H24 -> 33078147 | J21: =I24 -> 33078147 | K21: =J24 -> 33078147 | L21: =K24 -> 33078147 | M21: =L24 -> 33078147
C22: Mandatory issuances / (retirements) | I22: 0 | J22: 0 | K22: 0 | L22: 0 | M22: 0
C23: Non-mandatory issuances / (retirements) | H23: 0 | I23: 0 | J23: 0 | K23: 0 | L23: 0 | M23: 0
C24: Current Interest-bearing borrowings (end of year) | H24: ='Balance Sheet'!G37 -> 33078147 | I24: =SUM(I21:I23) -> 33078147 | J24: =SUM(J21:J23) -> 33078147 | K24: =SUM(K21:K23) -> 33078147 | L24: =SUM(L21:L23) -> 33078147 | M24: =SUM(M21:M23) -> 33078147
C25: Long term interest expense | H25: =-'Cash Flow Statement'!G48 -> 1328279 | I25: =AVERAGE(I21,I24)*I26 -> 1323125.9 | J25: =AVERAGE(J21,J24)*J26 -> 1323125.9 | K25: =AVERAGE(K21,K24)*K26 -> 1323125.9 | L25: =AVERAGE(L21,L24)*L26 -> 1323125.9 | M25: =AVERAGE(M21,M24)*M26 -> 1323125.9
D26: Long term interest rate | H26: =H25/H24 -> 0.040155786 | I26: 0.04 | J26: 0.04 | K26: 0.04 | L26: 0.04 | M26: 0.04 | O26: Seems about right
C28: Total issuances / (retirements) | I28: =SUM(I14:I15)+SUM(I22:I23) -> 0 | J28: =SUM(J14:J15)+SUM(J22:J23) -> 0 | K28: =SUM(K14:K15)+SUM(K22:K23) -> 0 | L28: =SUM(L14:L15)+SUM(L22:L23) -> 0 | M28: =SUM(M14:M15)+SUM(M22:M23) -> 0
C30: Total interest expense | I30: =I17+I25 -> 1323125.9 | J30: =J17+J25 -> 1323125.9 | K30: =K17+K25 -> 1323125.9 | L30: =L17+L25 -> 1323125.9 | M30: =M17+M25 -> 1323125.9
C32: Cash at the end of the year | E32: ='Balance Sheet'!D22 -> 6731356 | F32: ='Balance Sheet'!E22 -> 2591442 | G32: ='Balance Sheet'!F22 -> 5239690 | H32: ='Balance Sheet'!G22 -> 9526423 | I32: =I6+I7+I28 -> 12706172 | J32: =J6+J7+J28 -> 16579932 | K32: =K6+K7+K28 -> 20935342 | L32: =L6+L7+L28 -> 25597718 | M32: =M6+M7+M28 -> 30797943
C33: Interest income | E33: ='Income Statement'!D30 -> 31199 | F33: ='Income Statement'!E30 -> 24174 | G33: ='Income Statement'!F30 -> 14964 | H33: ='Income Statement'!G30 -> 102592 | I33: =AVERAGE(I6,I32)*I34 -> 77814.084 | J33: =AVERAGE(J6,J32)*J34 -> 102501.36 | K33: =AVERAGE(K6,K32)*K34 -> 131303.46 | L33: =AVERAGE(L6,L32)*L34 -> 162865.71 | M33: =AVERAGE(M6,M32)*M34 -> 197384.81
D34: Interest rate | E34: =E33/E32 -> 0.0046348759 | F34: =F33/F32 -> 0.0093283971 | G34: =G33/G32 -> 0.0028558941 | H34: =H33/H32 -> 0.010769205 | I34: 0.007 | J34: 0.007 | K34: 0.007 | L34: 0.007 | M34: 0.007 | O34: Average gives 0.69…%. We shall hardcode 0.7%
C35: Match? (Y/N)
C38: Notes: All non recurring and non owc liability items.
C39: Does not include deferred income taxes and non controlllling interest

Sheet DCF Analysis
C2: Historical | G2: Projection Period
B3: Year ended 31st December | C3: 2015A | D3: 2016A | E3: 2017A | F3: 2018A | G3: 2019E | H3: 2020E | I3: 2021E | J3: 2022E | K3: 2023E
B5: Unlevered Free Cash Flow
B6: EBIT | G6: ='Income Statement'!H27 -> 6968159.1 | H6: ='Income Statement'!I27 -> 7664975 | I6: ='Income Statement'!J27 -> 8431472.5 | J6: ='Income Statement'!K27 -> 9274619.7 | K6: ='Income Statement'!L27 -> 10202082
B7: Depreciation & Amortization | G7: =-Depreciation!H66 -> -2728495.2 | H7: =-Depreciation!I66 -> -2863045.3 | I7: =-Depreciation!J66 -> -3011050.5 | J7: =-Depreciation!K66 -> -3173856.2 | K7: =-Depreciation!L66 -> -3352942.4
B8: Deferred Taxes
B9: Other
B10: Changes in Working Capital | G10: ='Operating Working Capital'!I28 -> -1592414.4 | H10: ='Operating Working Capital'!J28 -> -1073690.3 | I10: ='Operating Working Capital'!K28 -> -1181059.4 | J10: ='Operating Working Capital'!L28 -> -1299165.3 | K10: ='Operating Working Capital'!M28 -> -1429081.8
B11: Capital Expenditures | G11: ='Cash Flow Statement'!H29 -> -1742039.8 | H11: ='Cash Flow Statement'!I29 -> -1916243.7 | I11: ='Cash Flow Statement'!J29 -> -2107868.1 | J11: ='Cash Flow Statement'!K29 -> -2318654.9 | K11: ='Cash Flow Statement'!L29 -> -2550520.4
B12: Taxes | G12: =-'Income Statement'!H38 -> -12427 | H12: =-'Income Statement'!I38 -> -12427 | I12: =-'Income Statement'!J38 -> -12427 | J12: =-'Income Statement'!K38 -> -973723.15 | K12: =-'Income Statement'!L38 -> -1089160.9
B13: Total Unlevered Free Cash Flow | G13: =SUM(G6:G12) -> 892782.69 | H13: =SUM(H6:H12) -> 1799568.6 | I13: =SUM(I6:I12) -> 2119067.5 | J13: =SUM(J6:J12) -> 1509220.2 | K13: =SUM(K6:K12) -> 1780376.1
B15: Net Present Value Calulation
B16: Period | G16: 1 | H16: 2 | I16: 3 | J16: 4 | K16: 5
B17: Discounted Cash Flow | F17: =L28 -> 0.11302362 | G17: =G13/(1+$F$17)^G16 -> 802123.76 | H17: =H13/(1+$F$17)^H16 -> 1452645.5 | I17: =I13/(1+$F$17)^I16 -> 1536850.6 | J17: =J13/(1+$F$17)^J16 -> 983411.03 | K17: =K13/(1+$F$17)^K16 -> 1042293.1
B18: Total Net Present Value | G18: =SUM(G17:K17) -> 5817323.9
B20: Terminal Value
B21: EBITDA Method | J21: Cost of Capital
C22: Exit Year EBITDA | F22: =K6+K7 -> 6849139.3 | J22: Risk Free Rate | L22: 0.016 | M22: Debt YE 2018 | O22: ='Balance Sheet'!G27+'Balance Sheet'!G37 -> 33078147 | P22: add another '000
C23: Multiple | F23: =(O22+O25-'Balance Sheet'!G22)/(K6+K7) -> 17.557057 | G23: Debt + Equity Value + NCI - Cash | J23: Market Risk Premium | L23: 0.0665 | M23: Stock Price | O23: 18.62
C24: Terminal Value | F24: =F22*F23 -> 1.2025073e+08 | G24: NCI can be in Liabilities and in Equity | J24: Beta | L24: 1.33 | M24: Shares Outstanding | O24: ='Income Statement'!G50 -> 5193.2872 | P24: add another '000,000
C25: Net Present Value | F25: =F24/(1+F17)^K16 -> 70398892 | J25: Cost of Equity | L25: =L22+L23*L24 -> 0.104445 | M25: Equity Value | O25: =O23*O24*1000 -> 96699008
B26: Perpetuity Method | J26: Cost of Debt | L26: ='Debt Schedule'!I26 -> 0.04
C27: Unlevered Free Cash Flow | F27: =K13 -> 1780376.1
C28: Growth Rate | F28: 0.02 | J28: WACC | L28: =L25*O25/(O22+O25)+L26*(1-'Income Statement'!K39)*O22/(+O22) -> 0.11302362 | N28: Looks dangerously wrong
C29: Terminal Value | F29: =F27*(1+F28)/(F17-F28) -> 19521748
C30: Net Present Value | F30: =F29/(1+F17)^K16 -> 11428699 | J30: Need to use a MRP based on the index, S&P500
B32: Discounted Cash Flow Total Valuation | E32: EBITDA Method | F32: Perpetuity Method | J32: ^ Cost of debt should use current rates of debt
B33: Total of Present Value of Cash Flows | E33: =G18 -> 5817323.9 | F33: =G18 -> 5817323.9 | G33: sama sama | J33: Current Corporate Debt Rating would be amazing
B34: Present Value of Terminal Value | E34: =F25 -> 70398892 | F34: =F30 -> 11428699
B35: Total Enterprise Value | E35: =SUM(E33:E34) -> 76216216 | F35: =SUM(F33:F34) -> 17246023
B36: Net Debt, Non-controlling interests, preferred securities | E36: =O22-'Balance Sheet'!G22 -> 23551724 | F36: =O22-'Balance Sheet'!G22 -> 23551724 | G36: sama sama
B37: Equity Value | E37: =E35-E36 -> 52664492 | F37: =F35-F36 -> -6305701
B38: Share Count (millions) | E38: =O24*1000 -> 5193287.2 | F38: =O24*1000 -> 5193287.2 | G38: sama sama
B39: Estimated Equity Value per Share | E39: =E37/E38 -> 10.140878 | F39: =F37/F38 -> -1.2142022
